BEGIN:VCALENDAR
VERSION:2.0
PRODID:-//ChamberMaster//Event Calendar 2.0//EN
METHOD:PUBLISH
X-PUBLISHED-TTL:P3D
REFRESH-INTERVAL:P3D
CALSCALE:GREGORIAN
BEGIN:VEVENT
DTSTART:20140615T133000Z
DTEND:20140615T173000Z
X-MICROSOFT-CDO-ALLDAYEVENT:FALSE
SUMMARY:Fathers' Day Cruz In Car Show Registration
DESCRIPTION:The 1st Annual Fathers Day Cruz in will be held at the White Cloud Airport from 9:30 am - 1:30 pm.  \n\n\n\nThis years event is a no class\; all makes\, models and years and is NO ENTRY FEE.  \n\n\n\nFor more information on registration and event please contact Ralph Zimmerman at 231-689-6393 or email at  zimmermanralph@yahoo.com
X-ALT-DESC;FMTTYPE=text/html:<br />\n<span style="font-size:18px\;"><span style="font-family:arial\;">The 1st Annual Fathers Day Cruz in will be held at the White Cloud Airport from 9:30 am - 1:30 pm. &nbsp\;<br />\n<br />\nThis years event is a no class\; all makes\, models and years and is NO ENTRY FEE. &nbsp\;</span></span><br />\n<br />\nFor more information on registration and event please contact Ralph Zimmerman at 231-689-6393 or email at&nbsp\;<a href="mailto:zimmermanralph@yahoo.com?subject=Fathers%20Day%20Cruz%20In"> zimmermanralph@yahoo.com</a>&nbsp\;<br />\n&nbsp\;
LOCATION:White Cloud Airport
UID:e.1709.862
SEQUENCE:3
DTSTAMP:20260420T115032Z
URL:https://www.rivercountrychamber.com/events/details/fathers-day-cruz-in-car-show-registration-06-15-2014-862
END:VEVENT

END:VCALENDAR
