BEGIN:VCALENDAR
VERSION:2.0
PRODID:-//ChamberMaster//Event Calendar 2.0//EN
METHOD:PUBLISH
X-PUBLISHED-TTL:P3D
REFRESH-INTERVAL:P3D
CALSCALE:GREGORIAN
BEGIN:VEVENT
DTSTART:20240604T220000Z
DTEND:20240605T000000Z
X-MICROSOFT-CDO-ALLDAYEVENT:FALSE
SUMMARY:Figure Drawing at NCCA- Artsplace
DESCRIPTION:Use charcoal\, graphite and watercolor washes to study and draw the human figure. Students will work from still life figures and live models.
X-ALT-DESC;FMTTYPE=text/html:<span style="color:rgb(34\, 34\, 34)\; font-family:junge\,serif\; font-size:18px">Use charcoal\, graphite and watercolor washes to study and draw the human figure. Students will work from still life figures and live models.</span>
LOCATION:NCCA-Artsplace at 13 e. Main Street\, Fremont\, MI 49412
UID:e.1709.41333
SEQUENCE:3
DTSTAMP:20260420T074932Z
URL:https://www.rivercountrychamber.com/events/details/figure-drawing-at-ncca-artsplace-41333
END:VEVENT

END:VCALENDAR
