BEGIN:VCALENDAR
VERSION:2.0
PRODID:-//ChamberMaster//Event Calendar 2.0//EN
METHOD:PUBLISH
X-PUBLISHED-TTL:P3D
REFRESH-INTERVAL:P3D
CALSCALE:GREGORIAN
BEGIN:VEVENT
DTSTART:20131128T133000Z
DTEND:20131128T170000Z
X-MICROSOFT-CDO-ALLDAYEVENT:FALSE
SUMMARY:Fourth Annual Tamarac Turkey Trot
DESCRIPTION:Tamarac is continuing a Thanksgiving tradition! Encourage your friends and family members to come to Fremont on Thanksgiving morning for this unforgettable experience. Events Turkey Trot (5 mi.) - 8:30 a.m. Chip timed Gobbler and Hen Walk (2 mi.) - 8:30 a.m. Not officially timed Poult Prance (  mi.) fun run for parents and kids - 9:45 a.m. Packet Pickup/Late Registration Wednesday\, November 27\, 2013 (4 p.m. to 6 p.m.) Thursday\, November 28\, 2013 (7:00 a.m. to 8:00 a.m.)
X-ALT-DESC;FMTTYPE=text/html:Tamarac is continuing a Thanksgiving tradition! Encourage your friends and family members to come to Fremont on Thanksgiving morning for this unforgettable experience. Events Turkey Trot (5 mi.) - 8:30 a.m. Chip timed Gobbler and Hen Walk (2 mi.) - 8:30 a.m. Not officially timed Poult Prance (&frac12\; mi.) fun run for parents and kids - 9:45 a.m. Packet Pickup/Late Registration Wednesday\, November 27\, 2013 (4 p.m. to 6 p.m.) Thursday\, November 28\, 2013 (7:00 a.m. to 8:00 a.m.) 
LOCATION:1401 W. Main Street Fremont\, MI 49412
UID:e.1709.476
SEQUENCE:3
DTSTAMP:20260420T205926Z
URL:https://www.rivercountrychamber.com/events/details/fourth-annual-tamarac-turkey-trot-11-28-2013-476
END:VEVENT

END:VCALENDAR
