BEGIN:VCALENDAR
VERSION:2.0
PRODID:-//ChamberMaster//Event Calendar 2.0//EN
METHOD:PUBLISH
X-PUBLISHED-TTL:P3D
REFRESH-INTERVAL:P3D
CALSCALE:GREGORIAN
BEGIN:VEVENT
DTSTART:20131003T210000Z
DTEND:20131003T230000Z
X-MICROSOFT-CDO-ALLDAYEVENT:FALSE
SUMMARY:Free Cooking Class
DESCRIPTION:FREE Cooking Class open to Newaygo Country Residents whom are eligible for TrueNorth services. This class will teach basic kitchen skills and offer delicious\, nutritious\, and cost-effective recipes that your family is sure to enjoy. We will be instructing participants to cook a variety of meals and will have a group dinner afterwards.
X-ALT-DESC;FMTTYPE=text/html:FREE Cooking Class open to Newaygo Country Residents whom are eligible for TrueNorth services. This class will teach basic kitchen skills and offer delicious\, nutritious\, and cost-effective recipes that your family is sure to enjoy. We will be instructing participants to cook a variety of meals and will have a group dinner afterwards. 
LOCATION:TrueNorth\, 6308 S. Warner Ave\, Fremont MI 49412
UID:e.1709.443
SEQUENCE:3
DTSTAMP:20260420T221331Z
URL:https://www.rivercountrychamber.com/events/details/free-cooking-class-10-03-2013-443
END:VEVENT

END:VCALENDAR
