BEGIN:VCALENDAR
VERSION:2.0
PRODID:-//ChamberMaster//Event Calendar 2.0//EN
METHOD:PUBLISH
X-PUBLISHED-TTL:P3D
REFRESH-INTERVAL:P3D
CALSCALE:GREGORIAN
BEGIN:VEVENT
DTSTART:20130603T210000Z
DTEND:20130604T000000Z
X-MICROSOFT-CDO-ALLDAYEVENT:FALSE
SUMMARY:FREE Cyber Safety Training
DESCRIPTION:FREE hot dogs\, cake and ice cream. Presentation from the MI State Police on Internet Safety. Presentation from the youth on the Newaygo County PRIDE team on what youth are currently doing and using in social media and technological devices as well as a short performance on cyber bullying.
X-ALT-DESC;FMTTYPE=text/html:FREE hot dogs\, cake and ice cream. Presentation from the MI State Police on Internet Safety. Presentation from the youth on the Newaygo County PRIDE team on what youth are currently doing and using in social media and technological devices as well as a short performance on cyber bullying. 
LOCATION:Grant Fine Arts Center
UID:e.1709.257
SEQUENCE:3
DTSTAMP:20260421T031706Z
URL:https://www.rivercountrychamber.com/events/details/free-cyber-safety-training-06-03-2013-257
END:VEVENT

END:VCALENDAR
