BEGIN:VCALENDAR
VERSION:2.0
PRODID:-//ChamberMaster//Event Calendar 2.0//EN
METHOD:PUBLISH
X-PUBLISHED-TTL:P3D
REFRESH-INTERVAL:P3D
CALSCALE:GREGORIAN
BEGIN:VEVENT
DTSTART:20131125T133000Z
DTEND:20131201T013000Z
X-MICROSOFT-CDO-ALLDAYEVENT:FALSE
SUMMARY:Free Electronics Recycling Clean out before christmas\, FREE!
DESCRIPTION:Electronics Recycling Week\n\n	With Comprenew \n\n	Monday  Saturday\n\n	November 25th 30th\, 2013\n\n	Drop off items between 8:30 am and 8:30 pm\n\n	Band Students will be there Saturday 11am-1pm to help load items for those not able to lift. Otherwise no one has to be at the trailer for you to drop off items.
X-ALT-DESC;FMTTYPE=text/html:<p align="CENTER" style="widows: 4">\n	<font size="5"><b>Electronics Recycling Week</b></font></p>\n<p align="CENTER" style="widows: 4">\n	<font size="5"><b>With Comprenew</b></font><font face="Trebuchet MS\, serif"><font size="5"><b>&reg\;</b></font></font></p>\n<p align="CENTER" style="widows: 4">\n	<font color="#006600"><font style="font-size: 20pt"><b>Monday &ndash\;Saturday</b></font></font></p>\n<p align="CENTER" style="widows: 4">\n	<font color="#006600"><font style="font-size: 20pt"><b>November 25th&mdash\;30th\, 2013</b></font></font></p>\n<p align="CENTER" style="widows: 4">\n	<font color="#006600"><font style="font-size: 20pt"><b>Drop off items between 8:30 am and 8:30 pm</b></font></font></p>\n<p align="CENTER" style="widows: 4">\n	<font color="#006600"><font size="4"><b>Band Students will be there Saturday 11am-1pm to help load items for those not able to lift. Otherwise no one has to be at the trailer for you to drop off items.</b></font></font></p>\n<p align="CENTER" style="widows: 4">\n	&nbsp\;</p>\n<p align="CENTER" style="widows: 4">\n	&nbsp\;</p>\n
LOCATION:60 East 82nd Newaygo Michigan The old Plumbs/Havemans Parking lot Corner of M-82 and M37
UID:e.1709.528
SEQUENCE:3
DTSTAMP:20260420T221646Z
URL:https://www.rivercountrychamber.com/events/details/free-electronics-recycling-clean-out-before-christmas-free-11-25-2013-528
END:VEVENT

END:VCALENDAR
