BEGIN:VCALENDAR
VERSION:2.0
PRODID:-//ChamberMaster//Event Calendar 2.0//EN
METHOD:PUBLISH
X-PUBLISHED-TTL:P3D
REFRESH-INTERVAL:P3D
CALSCALE:GREGORIAN
BEGIN:VEVENT
DTSTART;VALUE=DATE:20220702
DTEND;VALUE=DATE:20220703
TRANSP:TRANSPARENT
X-MICROSOFT-CDO-ALLDAYEVENT:TRUE
SUMMARY:Freedom Fest on the Causeway 2022
DESCRIPTION:Croton's biggest day of the year is almost here! Our annual Independence Day Celebration is a full of family friendly events where traditions are born and memories are created for a lifetime. Whether you're on a boat or on the causeway\, we'd love to have you celebrate with us! \n\n \n \n\nLive Music * Beer Tent * Food Trucks * Vendors * Fireworks\n\n\n\n\n\nSchedule of Events:\n\n12pm       Croton American Legion Parade Post #381 - Click here for parade app.                      for any questions regarding parade\, please call 231-652-7776. You can                      visit the Legion following the parade for free activities for the kids! \n\n6:30pm    Event Begins \n\nDusk        FIREWORKS put on by Croton Township\n\n\n\n\n\n*Croton Fire Department PARADE OF LIGHTS \n\nFriday\, July 1st at dusk - See photo below for route\n\n\n\nBEER TENT INFO:\n\n\n	MUST HAVE VALID ID. NO EXCEPTIONS. \n	CASH ONLY\n	$4 PER TOKEN /  1 TOKEN = 1 BEVERAGE\n	DRAFT: BUD LIGHT\, BUSCH LIGHT\n	PIGEON HILLS SAND IPA\, SELTZER\, HARD SODA\n\n\n\n\n\n\nInterested in Sponsorship Opportunities? Click here for more information . \n\nVolunteers are Needed! See if you can help here!\n\n\n\nHelpful Links:\n\nArea Lodging\n\nArea Dining
X-ALT-DESC;FMTTYPE=text/html:<div><span style="font-size:18px\;">Croton&#39\;s biggest day of the year is almost here! Our annual Independence Day Celebration is a full of family friendly events where traditions are born and memories are created for a lifetime.&nbsp\;Whether you&#39\;re on a boat or on the causeway\, we&#39\;d love to have you celebrate with us!&nbsp\;</span><br />\n&nbsp\;</div>\n&nbsp\;\n\n<div style="text-align: center\;"><span style="font-size: 18px\;"><span comic="" sans="" style="font-family: "><span style="font-size: 22px\;"><strong><span style="color: rgb(255\, 0\, 0)\;">Live Music&nbsp\;</span>*<span style="color: rgb(0\, 0\, 204)\;">&nbsp\;Beer Tent</span>&nbsp\;*&nbsp\;<span style="color: rgb(255\, 0\, 0)\;">Food Trucks</span>&nbsp\;*<span style="color: rgb(0\, 0\, 255)\;">&nbsp\;Vendors</span>&nbsp\;*<span style="color: rgb(255\, 0\, 0)\;">&nbsp\;Fireworks</span></strong></span></span></span></div>\n\n<div><br />\n<br />\n<span style="font-size:18px\;"><span style="color: rgb(0\, 0\, 255)\;"><strong>Schedule of Events:</strong></span><br />\n<span style="color: rgb(0\, 0\, 0)\;">12pm&nbsp\; &nbsp\; &nbsp\; &nbsp\;<a href="https://chambermaster.blob.core.windows.net/userfiles/UserFiles/chambers/1709/File/Freedom_Fest_/Parade.2022.pdf">Croton American Legion Parade Post #381</a>&nbsp\;- Click here for parade app.&nbsp\; &nbsp\; &nbsp\; &nbsp\; &nbsp\; &nbsp\; &nbsp\; &nbsp\; &nbsp\; &nbsp\; &nbsp\; for&nbsp\;any questions regarding parade\, please call 231-652-7776. You can&nbsp\; &nbsp\; &nbsp\; &nbsp\; &nbsp\; &nbsp\; &nbsp\; &nbsp\; &nbsp\; &nbsp\; &nbsp\; visit the Legion following the parade for free activities for the kids!&nbsp\;</span><br />\n<span style="color: rgb(0\, 0\, 0)\;">6:30pm&nbsp\; &nbsp\; Event Begins&nbsp\;</span></span><br />\n<span style="font-size: 16px\;"><span style="color: rgb(0\, 0\, 0)\;"><span style="font-size:18px\;">Dusk&nbsp\; &nbsp\; &nbsp\; &nbsp\; FIREWORKS put on by Croton Township</span><br />\n<br />\n<br />\n*Croton Fire Department PARADE OF LIGHTS&nbsp\;<br />\nFriday\, July 1st at dusk - See photo below for route<br />\n<br />\n<strong>BEER TENT INFO:</strong></span></span></div>\n\n<ul>\n	<li><span style="font-size:16px\;">MUST HAVE VALID ID. NO EXCEPTIONS.&nbsp\;</span></li>\n	<li><span style="font-size: 16px\;"><span style="color: rgb(0\, 0\, 0)\;">CASH ONLY</span></span></li>\n	<li><span style="font-size: 16px\;"><span style="color: rgb(0\, 0\, 0)\;">$4 PER TOKEN /&nbsp\; 1 TOKEN = 1 BEVERAGE</span></span></li>\n	<li><font color="#000000"><span style="font-size: 16px\;">DRAFT: BUD LIGHT\, BUSCH LIGHT</span></font></li>\n	<li><font color="#000000"><span style="font-size: 16px\;">PIGEON HILLS SAND IPA\, SELTZER\, HARD SODA</span></font></li>\n</ul>\n\n<div><br />\n<br />\n<strong><span style="font-size: 16px\;">Interested in Sponsorship Opportunities?&nbsp\;<a href="https://chambermaster.blob.core.windows.net/userfiles/UserFiles/chambers/1709/File/Freedom_Fest_/2022FreedomFestSponsorshipBenefits.pdf">Click here for more information</a>&nbsp\;.&nbsp\;</span></strong><br />\n<strong><span style="font-size: 16px\;">Volunteers are Needed!&nbsp\;<a href="https://signup.com/go/nuPfasz">See if you can help here!</a></span></strong><br />\n<br />\n<span style="font-size: 16px\;"><span style="color: rgb(0\, 0\, 0)\;"><strong>Helpful Links:</strong><br />\n<a href="https://www.rivercountrychamber.com/list/ql/lodging-39">Area Lodging</a><br />\n<a href="https://www.rivercountrychamber.com/list/category/restaurant-dining-94">Area Dining</a></span></span></div>\n
LOCATION:Croton\, MI on the Causeway (Between The Trading Post and Croton Township Campground)
UID:e.1709.38714
SEQUENCE:3
DTSTAMP:20260422T050308Z
URL:https://www.rivercountrychamber.com/events/details/freedom-fest-on-the-causeway-2022-38714
END:VEVENT

END:VCALENDAR
