BEGIN:VCALENDAR
VERSION:2.0
PRODID:-//ChamberMaster//Event Calendar 2.0//EN
METHOD:PUBLISH
X-PUBLISHED-TTL:P3D
REFRESH-INTERVAL:P3D
CALSCALE:GREGORIAN
BEGIN:VEVENT
DTSTART:20130717T210000Z
DTEND:20130717T233000Z
X-MICROSOFT-CDO-ALLDAYEVENT:FALSE
SUMMARY:Fremont Area Community Foundation Community Picnic
DESCRIPTION:Fremont Area Community Foundation invites you to our 16th Annual Community Picnic! You may not leap tall buildings in a single bound\, but you can be a hero by supporting Goal 2025 in our community. Come to the Community Foundation?s annual picnic for the food and consider a donation to WE CAN! Newaygo County\, our college and career access network. Every dollar will be matched. Who knew you were a superhero? Menu: Pulled chicken sandwich or hot dog\, baked beans\, watermelon\, carrots\, and water or juice
X-ALT-DESC;FMTTYPE=text/html:Fremont Area Community Foundation invites you to our 16th Annual Community Picnic! You may not leap tall buildings in a single bound\, but you can be a hero by supporting Goal 2025 in our community. Come to the Community Foundation?s annual picnic for the food and consider a donation to WE CAN! Newaygo County\, our college and career access network. Every dollar will be matched. Who knew you were a superhero? Menu: Pulled chicken sandwich or hot dog\, baked beans\, watermelon\, carrots\, and water or juice
LOCATION:Northeast corner of Veterans Park in Fremont
UID:e.1709.265
SEQUENCE:3
DTSTAMP:20260421T032024Z
URL:https://www.rivercountrychamber.com/events/details/fremont-area-community-foundation-community-picnic-07-17-2013-265
END:VEVENT

END:VCALENDAR
