BEGIN:VCALENDAR
VERSION:2.0
PRODID:-//ChamberMaster//Event Calendar 2.0//EN
METHOD:PUBLISH
X-PUBLISHED-TTL:P3D
REFRESH-INTERVAL:P3D
CALSCALE:GREGORIAN
BEGIN:VEVENT
DTSTART:20140416T213000Z
DTEND:20140416T230000Z
X-MICROSOFT-CDO-ALLDAYEVENT:FALSE
SUMMARY:General Membership Meeting
DESCRIPTION:The first of four General Membership Meetings scheduled for 2014 the April 16th General Membership meeting will be held in Croton Township at the Fire Barn on Elm.  It is free to attend and we encourage ALL members to register for this free event.\n\n\n\nThe agenda for the meeting will be as follows:\n\n\n\n5:30 pm      Business to Business Networking\n\n6:00 pm      Meeting called to order\n\n                  Invocation & pledge of allegiance \n\n                  Update on 1st Quarter\n\n                  Update on 2nd quarter events\n\n6:15 pm      Introduction of Speaker - Kelly Potes\, Senior VP Choice One Bank\n\n                  Topic: Update on Local and Regional Economy\n\n6:30 pm      Questions\n\n                  Membership Comments\n\n                  Adjourn
X-ALT-DESC;FMTTYPE=text/html:<span style="font-size:14px\;"><span style="font-family:arial\;">The first of four General Membership Meetings scheduled for 2014 the April 16th General Membership meeting will be held in Croton Township at the Fire Barn on Elm. &nbsp\;It is free to attend and we encourage ALL members to register for this free event.<br />\n<br />\nThe agenda for the meeting will be as follows:<br />\n<br />\n5:30 pm &nbsp\;&nbsp\;&nbsp\;&nbsp\;&nbsp\;Business to Business Networking<br />\n6:00 pm &nbsp\;&nbsp\;&nbsp\;&nbsp\;&nbsp\;Meeting called to order<br />\n&nbsp\; &nbsp\; &nbsp\; &nbsp\; &nbsp\; &nbsp\; &nbsp\; &nbsp\; &nbsp\; Invocation &amp\; pledge of allegiance&nbsp\;<br />\n&nbsp\; &nbsp\; &nbsp\; &nbsp\; &nbsp\; &nbsp\; &nbsp\; &nbsp\; &nbsp\; Update on 1st Quarter<br />\n&nbsp\;&nbsp\; &nbsp\; &nbsp\; &nbsp\; &nbsp\; &nbsp\; &nbsp\; &nbsp\; &nbsp\;Update on 2nd quarter events<br />\n6:15 pm &nbsp\; &nbsp\; &nbsp\;Introduction of Speaker - Kelly Potes\, Senior VP Choice One Bank<br />\n&nbsp\; &nbsp\; &nbsp\; &nbsp\; &nbsp\; &nbsp\; &nbsp\; &nbsp\; &nbsp\; Topic: Update on Local and Regional Economy<br />\n6:30 pm &nbsp\; &nbsp\; &nbsp\;Questions<br />\n&nbsp\; &nbsp\; &nbsp\; &nbsp\; &nbsp\; &nbsp\; &nbsp\; &nbsp\; &nbsp\; Membership Comments<br />\n&nbsp\;&nbsp\; &nbsp\; &nbsp\; &nbsp\; &nbsp\; &nbsp\; &nbsp\; &nbsp\; &nbsp\;Adjourn<br />\n&nbsp\;&nbsp\;&nbsp\;&nbsp\;</span></span>
LOCATION:Croton Township Fire Barn
UID:e.1709.827
SEQUENCE:3
DTSTAMP:20260420T153724Z
URL:https://www.rivercountrychamber.com/events/details/general-membership-meeting-04-16-2014-827
END:VEVENT

END:VCALENDAR
