BEGIN:VCALENDAR
VERSION:2.0
PRODID:-//ChamberMaster//Event Calendar 2.0//EN
METHOD:PUBLISH
X-PUBLISHED-TTL:P3D
REFRESH-INTERVAL:P3D
CALSCALE:GREGORIAN
BEGIN:VEVENT
DTSTART:20140716T213000Z
DTEND:20140716T230000Z
X-MICROSOFT-CDO-ALLDAYEVENT:FALSE
SUMMARY:General Membership Meeting
DESCRIPTION:The 2nd of four General Membership Meetings scheduled for July 16\, 2014 will be held in White Cloud at the Newaygo County Administration Building.  It is free to attend and we encourage ALL members to register for this free event.\n\n\n\nThe agenda for the meeting will be as follows:\n\n\n\n5:30 pm           Business to Business Networking\n\n6:00 pm           Meeting called to order\n\n                        Invocation & pledge of allegiance \n\n                        Update on 2nd Quarter\n\n                        What's coming for 3rd Quarter\n\n6:15 pm           Introduction of Speaker Randy Stasik of                          Spectrum  Health Gerber Memorial  \n\n                        Topic: Vision for future growth and \n\n                                      New construction  project\n\n                        Membership Comments\n\n7:00 pm           Adjourn
X-ALT-DESC;FMTTYPE=text/html:<br />\nThe 2nd of four General Membership Meetings scheduled for July 16\, 2014 will be held in White Cloud at the Newaygo County Administration Building. &nbsp\;It is free to attend and we encourage ALL members to register for this free event.<br />\n<br />\n<span style="font-size:14px\;"><span style="font-family:arial\;"><span style="line-height: 107%\;">The agenda for the meeting will be as follows:<br />\n<br />\n5:30 pm&nbsp\;&nbsp\;&nbsp\;&nbsp\;&nbsp\;&nbsp\;&nbsp\;&nbsp\;&nbsp\;&nbsp\; Business to Business Networking<br />\n6:00 pm&nbsp\;&nbsp\;&nbsp\;&nbsp\;&nbsp\;&nbsp\;&nbsp\;&nbsp\;&nbsp\;&nbsp\; Meeting called to order<br />\n&nbsp\; &nbsp\; &nbsp\; &nbsp\; &nbsp\; &nbsp\; &nbsp\;&nbsp\;&nbsp\;&nbsp\;&nbsp\;&nbsp\;&nbsp\;&nbsp\;&nbsp\;&nbsp\;&nbsp\; Invocation &amp\; pledge of allegiance&nbsp\;<br />\n&nbsp\; &nbsp\; &nbsp\; &nbsp\; &nbsp\; &nbsp\; &nbsp\;&nbsp\;&nbsp\;&nbsp\;&nbsp\;&nbsp\;&nbsp\;&nbsp\;&nbsp\;&nbsp\;&nbsp\; Update on<span class="apple-converted-space">&nbsp\;2nd</span><span class="apple-converted-space">&nbsp\;</span>Quarter<br />\n&nbsp\; &nbsp\; &nbsp\; &nbsp\; &nbsp\; &nbsp\; &nbsp\;&nbsp\;&nbsp\;&nbsp\;&nbsp\;&nbsp\;&nbsp\;&nbsp\;&nbsp\;&nbsp\;&nbsp\; What&#39\;s coming for<span class="apple-converted-space">&nbsp\;3rd</span><span class="apple-converted-space">&nbsp\;</span>Quarter<br />\n6:15 pm&nbsp\;&nbsp\;&nbsp\;&nbsp\;&nbsp\;&nbsp\;&nbsp\;&nbsp\;&nbsp\;&nbsp\; Introduction of Speaker<a href="http://cloud.chambermaster.com/userfiles/UserFiles/chambers/1709/File/Press_Releases/RANDALLJSTASIKBIO.pdf"> </a><a href="http://cloud.chambermaster.com/userfiles/UserFiles/chambers/1709/File/Press_Releases/RandyStasik.jpg">Randy</a><a href="http://cloud.chambermaster.com/userfiles/UserFiles/chambers/1709/File/Press_Releases/RANDALLJSTASIKBIO.pdf"><span class="apple-converted-space">&nbsp\;Stasik</span></a>&nbsp\;of </span></span></span>&nbsp\;&nbsp\;&nbsp\;&nbsp\;&nbsp\;&nbsp\;&nbsp\;&nbsp\;&nbsp\;&nbsp\;&nbsp\;&nbsp\;&nbsp\;&nbsp\;&nbsp\;&nbsp\;&nbsp\;&nbsp\;&nbsp\;&nbsp\;&nbsp\;&nbsp\;&nbsp\;&nbsp\;&#8203\;<span style="font-size:14px\;"><span style="font-family:arial\;"><span style="line-height: 107%\;">Spectrum</span><span style="line-height: 107%\; background-image: initial\; background-attachment: initial\; background-size: initial\; background-origin: initial\; background-clip: initial\; background-position: initial\; background-repeat: initial\;">&nbsp\;&#8203\;</span><span style="line-height: 107%\;">Health<span class="apple-converted-space">&nbsp\;</span></span>Gerber Memorial &nbsp\;<br />\n&nbsp\; &nbsp\; &nbsp\; &nbsp\; &nbsp\;&nbsp\;&nbsp\;&nbsp\;&nbsp\;&nbsp\;&nbsp\;&nbsp\;&nbsp\;&nbsp\;&nbsp\;&nbsp\;&nbsp\;&nbsp\;&nbsp\; Topic: Vision for future growth and </span></span><br />\n&nbsp\;&nbsp\;&nbsp\;&nbsp\;&nbsp\;&nbsp\;&nbsp\;&nbsp\;&nbsp\;&nbsp\;&nbsp\;&nbsp\;&nbsp\;&nbsp\;&nbsp\;&nbsp\;&nbsp\;&nbsp\;&nbsp\;&nbsp\;&nbsp\;&nbsp\;&nbsp\;&nbsp\;&#8203\;&nbsp\;&nbsp\;&nbsp\;&nbsp\;&#8203\;&nbsp\;&nbsp\;&nbsp\;&nbsp\;&#8203\; &nbsp\;&nbsp\;<span style="font-size:14px\;"><span style="font-family:arial\;">New construction</span></span>&nbsp\;&#8203\;<span style="font-size:14px\;"><span style="font-family:arial\;">project<br />\n&nbsp\; &nbsp\; &nbsp\; &nbsp\; &nbsp\;&nbsp\;&nbsp\;&nbsp\;&nbsp\;&nbsp\;&nbsp\;&nbsp\;&nbsp\;&nbsp\;&nbsp\;&nbsp\;&nbsp\;&nbsp\;&nbsp\; Membership Comments<br />\n7:00 pm &nbsp\; &nbsp\; &nbsp\; &nbsp\; &nbsp\; Adjourn</span></span><br />\n&nbsp\;
LOCATION:Newaygo County Administration Building 1087 Newell St White Cloud\, MI
UID:e.1709.934
SEQUENCE:3
DTSTAMP:20260420T102530Z
URL:https://www.rivercountrychamber.com/events/details/general-membership-meeting-07-16-2014-934
END:VEVENT

END:VCALENDAR
