BEGIN:VCALENDAR
VERSION:2.0
PRODID:-//ChamberMaster//Event Calendar 2.0//EN
METHOD:PUBLISH
X-PUBLISHED-TTL:P3D
REFRESH-INTERVAL:P3D
CALSCALE:GREGORIAN
BEGIN:VEVENT
DTSTART:20131109T140000Z
DTEND:20131109T200000Z
X-MICROSOFT-CDO-ALLDAYEVENT:FALSE
SUMMARY:Gift Shop Holiday Open House
DESCRIPTION:The Gift Shop will be featuring some very unique items\, ornaments and made-in-Michigan products that are sure to please anyone on your holiday shopping list. Light refreshments will be served. All proceeds to benefit Spectrum Health Gerber Memorial programs and services.
X-ALT-DESC;FMTTYPE=text/html:The Gift Shop will be featuring some very unique items\, ornaments and made-in-Michigan products that are sure to please anyone on your holiday shopping list. Light refreshments will be served. All proceeds to benefit Spectrum Health Gerber Memorial programs and services.
LOCATION:the Gift Shop at Spectrum Health Gerber Memorial 212 S. Sullivan Avenue\, Fremont MI 49412
UID:e.1709.475
SEQUENCE:3
DTSTAMP:20260420T210325Z
URL:https://www.rivercountrychamber.com/events/details/gift-shop-holiday-open-house-11-09-2013-475
END:VEVENT

END:VCALENDAR
