BEGIN:VCALENDAR
VERSION:2.0
PRODID:-//ChamberMaster//Event Calendar 2.0//EN
METHOD:PUBLISH
X-PUBLISHED-TTL:P3D
REFRESH-INTERVAL:P3D
CALSCALE:GREGORIAN
BEGIN:VEVENT
DTSTART:20131214T150000Z
DTEND:20131214T170000Z
X-MICROSOFT-CDO-ALLDAYEVENT:FALSE
SUMMARY:Gingerbread house decorating
DESCRIPTION:Gingerbread house decorating\, with a visit from Santa. What could be better! Pictures with Santa will be taken. Come enjoy hot cocoa and snacks while decorating your gingerbread house!
X-ALT-DESC;FMTTYPE=text/html:<br />\nGingerbread house decorating\, with a visit from Santa. What could be better! Pictures with Santa will be taken. Come enjoy hot cocoa and snacks while decorating your gingerbread house!
LOCATION:Croton Township Library 8260 S Croton Hardy Dr Newaygo\, MI 49337
UID:e.1709.486
SEQUENCE:3
DTSTAMP:20260420T193832Z
URL:https://www.rivercountrychamber.com/events/details/gingerbread-house-decorating-12-14-2013-486
END:VEVENT

END:VCALENDAR
