BEGIN:VCALENDAR
VERSION:2.0
PRODID:-//ChamberMaster//Event Calendar 2.0//EN
METHOD:PUBLISH
X-PUBLISHED-TTL:P3D
REFRESH-INTERVAL:P3D
CALSCALE:GREGORIAN
BEGIN:VEVENT
DTSTART:20140516T220000Z
DTEND:20140516T223000Z
X-MICROSOFT-CDO-ALLDAYEVENT:FALSE
SUMMARY:Girls on the Run Celebration 5k
DESCRIPTION:Come join the fun and run with us as the Newaygo County Girls on the Run program celebrates the program participants in a celebration 5k run. Community members are welcome to join the run\, cost is $5.00 and registration is the day of from 4:30-5:30 pm at the race site. All entry fees go to the Girls on the Run program. The celebration is an untimed run.
X-ALT-DESC;FMTTYPE=text/html:Come join the fun and run with us as the Newaygo County Girls on the Run program celebrates the program participants in a celebration 5k run. Community members are welcome to join the run\, cost is $5.00 and registration is the day of from 4:30-5:30 pm at the race site. All entry fees go to the Girls on the Run program. The celebration is an untimed run.
LOCATION:Pathfinder Elementary\, Fremont
UID:e.1709.820
SEQUENCE:3
DTSTAMP:20260420T125824Z
URL:https://www.rivercountrychamber.com/events/details/girls-on-the-run-celebration-5k-05-16-2014-820
END:VEVENT

END:VCALENDAR
