BEGIN:VCALENDAR
VERSION:2.0
PRODID:-//ChamberMaster//Event Calendar 2.0//EN
METHOD:PUBLISH
X-PUBLISHED-TTL:P3D
REFRESH-INTERVAL:P3D
CALSCALE:GREGORIAN
BEGIN:VEVENT
DTSTART:20130730T130000Z
DTEND:20130730T200000Z
X-MICROSOFT-CDO-ALLDAYEVENT:FALSE
SUMMARY:Golf Outing Hosted by Newaygo Area Chamber of Commerce
DESCRIPTION:Golf is in the air for Newaygo Area Chamber Members!\n\n \n\nMark your calendars for a perfect morning round with your colleagues  at local favorite Village Green Golf Club!  Shotgun start on  Tuesday\, July 30\, 2013\, at 9:00 AM\, with lunch and fabulous prizes to be served after the round.   \n\n \n\nThere are two great ways to participate:\n\n \n\nPlay: A round for only $55 per person/ or $220 per team   includes green fees\, cart\, lunch and dessert and don't forget the FUN! (don't have enough for a foursome don't worry we can pair you up)\n\n\n\nSponsor or donate:  Allows you an additional opportunity to showcase your business to potential clients and business partners.\n\n \n\nRaffle\, 50/50 & Mulligan proceeds will be used to preserve our heritage\, by donating to The Newaygo County Museum\n\n\n\n\n\n\n	Sponsorship Opportunities:\n\n	\n\n	Hole-In-One Sponsor (One Available):  $750.00\n\n	\n\n	          FOURSOME INCLUDED\n\n	          Recognition on all print and promotional materials relating to the event as well\n\n	          as special recognition at lunch\n\n	          Chamber website recognition as Hole-In-One Sponsor with logo link to\n\n	          Company website\n\n	          Pre and post event publicity in the Hi-Lites\, Times Indicator & River Valley\n\n	          Shopper as well as Social Media & Website\n\n	          Company  recognition signage at registration\n\n	          Opportunity to provide Golf Gifts as a sponsor (i.e.\, sleeve of golf balls\,\n\n	          towels\, and/or company materials in gift bags (distributed\n\n	          to all golf attendees)\n\n	\n\n	Eagle Sponsor (Five Available): $500.00\n\n	\n\n	          FOURSOME INCLUDED\n\n	          Recognition on all print and promotional materials relating to the event as well\n\n	          as special recognition at lunch\n\n	          Chamber website recognition  as "Eagle" Event Sponsor with logo link to\n\n	          Company website\n\n	          Pre and post event publicity in the Hi-Lites\, Times Indicator & River Valley\n\n	          Shopper as well as Social Media & Website\n\n	          Company  recognition signage at registration\n\n	          Opportunity to provide Golf Gifts as a sponsor (i.e.\, sleeve of golf balls\,\n\n	          towels\, etc.) and/or company materials in gift bags (distributed to all\n\n	          golf attendees)\n\n	\n\n	Birdie (Ten Available): $150.00 (Chamber Member Special\; Platinum\, Gold & Silver Members upgrade your Complimentary Hole Sponsor for $75.00)\n\n	\n\n	          Chamber website recognition as "Birdie" Event Sponsor with Company Logo\n\n	          Recognition on all print and promotional materials relating to the event as well\n\n	          as special recognition at lunch\n\n	          Pre and post event publicity in the Hi-Lites\, Times Indicator & River Valley\n\n	          Shopper as well as Social Media & Website\n\n	          Company  recognition signage at registration\n\n	          Opportunity to provide Golf Gifts as a sponsor (ie\; sleeve of golf balls\, towels\,\n\n	          etc.) and/or company materials in gift bags (distributed to all golf attendees)\n\n	\n\n	Hole Sponsor: (36 Available) $75.00\n\n	\n\n	          Company name listed as sponsor on hole signage\n\n	          Opportunity to provide Golf Gifts as a sponsor (ie\; sleeve of golf balls\, towels\,\n\n	          and/or company materials in gift bags (distributed to all golf attendees)
X-ALT-DESC;FMTTYPE=text/html:<br />\n<span style="font-size: 18px\;"><span comic="" sans="" style="font-family: "><span style="font-size: 22px\;"><span style="font-family: arial\;"><strong>Golf is in the air for Newaygo Area Chamber Members!</strong></span></span><br />\n&nbsp\;<br />\n<span style="font-family: arial\;">Mark your calendars for a perfect morning round with your colleagues &nbsp\;at local favorite Village Green Golf Club!&nbsp\; Shotgun start on &nbsp\;Tuesday\, July 30\, 2013\, at 9:00 AM\, with lunch and fabulous prizes to be served after the round. &nbsp\;&nbsp\;</span><br />\n&nbsp\;</span></span><br />\n<span style="font-size: 18px\;"><span style="font-family: arial\;">There are two great ways to participate:</span></span><br />\n<span style="font-size: 18px\;"><span style="font-family: arial\;">&nbsp\;<br />\n<strong>Play:</strong> A round&nbsp\;for only $55 per person/ or $220 per team &ndash\; includes green fees\, cart\, lunch and dessert and don&rsquo\;t forget the FUN! <span style="font-size:14px\;">(don&#39\;t have enough for a foursome don&#39\;t worry we can pair you up)</span><br />\n<br />\n<strong>Sponsor or donate:</strong>&nbsp\; Allows you an additional opportunity to showcase your business to potential clients and business partners<span style="color: rgb(38\, 38\, 38)\;">.</span></span></span><br />\n&nbsp\;<br />\n<span style="font-size: 18px\;"><span style="font-family: arial\;"><strong><span style="color: rgb(38\, 38\, 38)\;">Raffle\, 50/50 &amp\; Mulligan proceeds will be used to preserve our heritage\, by donating to The Newaygo County Museum</span></strong></span></span><br />\n<br />\n<br />\n<div>\n	<span style="font-size: 16px\;"><span style="font-family: arial\;">Sponsorship Opportunities:</span></span><br />\n	<br />\n	<span style="font-size: 12px\;"><strong><span style="font-size: 16px\;">Hole-In-One Sponsor (One Available):</span>&nbsp\; <span style="color: rgb(128\, 0\, 0)\;"><span style="font-size: 16px\;">$750.00</span></span></strong><br />\n	<br />\n	<span style="color: rgb(192\, 0\, 0)\;">&middot\;&nbsp\;&nbsp\;&nbsp\;&nbsp\;&nbsp\;&nbsp\;&nbsp\;&nbsp\; </span>FOURSOME INCLUDED<br />\n	<span style="color: rgb(192\, 0\, 0)\;">&middot\;&nbsp\;&nbsp\;&nbsp\;&nbsp\;&nbsp\;&nbsp\;&nbsp\;&nbsp\; </span>Recognition on all print and promotional materials relating to the event as well<br />\n	&nbsp\; &nbsp\; &nbsp\; &nbsp\; &nbsp\; as special recognition at lunch<br />\n	<span style="color: rgb(192\, 0\, 0)\;">&middot\;&nbsp\;&nbsp\;&nbsp\;&nbsp\;&nbsp\;&nbsp\;&nbsp\;&nbsp\; </span>Chamber website recognition as Hole-In-One Sponsor with logo link to<br />\n	&nbsp\; &nbsp\; &nbsp\; &nbsp\; &nbsp\; Company website<br />\n	<span style="color: rgb(192\, 0\, 0)\;">&middot\;&nbsp\;&nbsp\;&nbsp\;&nbsp\;&nbsp\;&nbsp\;&nbsp\;&nbsp\; </span>Pre and post event publicity in the Hi-Lites\, Times Indicator &amp\;&nbsp\;River Valley<br />\n	&nbsp\; &nbsp\; &nbsp\; &nbsp\; &nbsp\; Shopper as well as&nbsp\;Social Media &amp\; Website<br />\n	<span style="color: rgb(192\, 0\, 0)\;">&middot\;&nbsp\;&nbsp\;&nbsp\;&nbsp\;&nbsp\;&nbsp\;&nbsp\;&nbsp\; </span>Company &nbsp\;recognition signage at registration<br />\n	<span style="color: rgb(192\, 0\, 0)\;">&middot\;&nbsp\;&nbsp\;&nbsp\;&nbsp\;&nbsp\;&nbsp\;&nbsp\;&nbsp\; </span>Opportunity to provide Golf Gifts as a sponsor (i.e.\, sleeve of golf balls\,<br />\n	&nbsp\;&nbsp\;&nbsp\;&nbsp\;&nbsp\;&nbsp\;&nbsp\;&nbsp\;&nbsp\; towels\, and/or company materials in gift bags (distributed<br />\n	&nbsp\;&nbsp\;&nbsp\;&nbsp\;&nbsp\;&nbsp\;&nbsp\;&nbsp\;&nbsp\; to all golf attendees)<br />\n	<br />\n	<span style="font-size: 16px\;"><strong>Eagle Sponsor (Five Available):<span style="color: rgb(128\, 0\, 0)\;"> $500.00</span></strong></span></span><br />\n	<br />\n	<span style="font-size: 12px\;"><span style="color: rgb(192\, 0\, 0)\;">&middot\;&nbsp\;&nbsp\;&nbsp\;&nbsp\;&nbsp\;&nbsp\;&nbsp\;&nbsp\; </span>FOURSOME INCLUDED<br />\n	<span style="color: rgb(192\, 0\, 0)\;">&middot\;&nbsp\;&nbsp\;&nbsp\;&nbsp\;&nbsp\;&nbsp\;&nbsp\;&nbsp\; </span>Recognition on all print and promotional materials relating to the event as well<br />\n	&nbsp\; &nbsp\; &nbsp\; &nbsp\; &nbsp\; as special recognition at lunch<br />\n	<span style="color: rgb(192\, 0\, 0)\;">&middot\;&nbsp\;&nbsp\;&nbsp\;&nbsp\;&nbsp\;&nbsp\;&nbsp\;&nbsp\; </span>Chamber website recognition&nbsp\; as &ldquo\;Eagle&rdquo\; Event Sponsor with logo link to<br />\n	&nbsp\; &nbsp\; &nbsp\; &nbsp\; &nbsp\; Company website<br />\n	<span style="color: rgb(192\, 0\, 0)\;">&middot\;&nbsp\;&nbsp\;&nbsp\;&nbsp\;&nbsp\;&nbsp\;&nbsp\;&nbsp\; </span>Pre and post event publicity in the Hi-Lites\,&nbsp\;Times Indicator &amp\;&nbsp\;River Valley<br />\n	&nbsp\; &nbsp\; &nbsp\; &nbsp\; &nbsp\; Shopper as well as&nbsp\;Social Media &amp\; Website<br />\n	<span style="color: rgb(192\, 0\, 0)\;">&middot\;&nbsp\;&nbsp\;&nbsp\;&nbsp\;&nbsp\;&nbsp\;&nbsp\;&nbsp\; </span>Company&nbsp\; recognition signage at registration<br />\n	<span style="color: rgb(192\, 0\, 0)\;">&middot\;&nbsp\;&nbsp\;&nbsp\;&nbsp\;&nbsp\;&nbsp\;&nbsp\;&nbsp\; </span>Opportunity to provide Golf Gifts as a sponsor (i.e.\, sleeve of golf balls\,<br />\n	&nbsp\;&nbsp\;&nbsp\;&nbsp\;&nbsp\;&nbsp\;&nbsp\;&nbsp\;&nbsp\; towels\, etc.) and/or company&nbsp\;materials in gift bags (distributed to all<br />\n	&nbsp\;&nbsp\;&nbsp\;&nbsp\;&nbsp\;&nbsp\;&nbsp\;&nbsp\;&nbsp\; golf attendees)</span><br />\n	<br />\n	<span style="font-size: 12px\;"><span style="font-family: arial\;"><strong><span style="font-size: 16px\;">Birdie (Ten Available):<span style="color: rgb(128\, 0\, 0)\;"> $150.00</span></span><span style="color: rgb(128\, 0\, 0)\;"> (Chamber Member Special\; Platinum\, Gold &amp\; Silver Members upgrade your Complimentary Hole Sponsor for $75.00)</span></strong></span></span><br />\n	<br />\n	<span style="font-size: 12px\;"><span style="color: rgb(192\, 0\, 0)\;">&middot\;&nbsp\;&nbsp\;&nbsp\;&nbsp\;&nbsp\;&nbsp\;&nbsp\;&nbsp\; </span>Chamber website recognition as &ldquo\;Birdie&rdquo\; Event Sponsor with Company Logo<br />\n	<span style="color: rgb(192\, 0\, 0)\;">&middot\;&nbsp\;&nbsp\;&nbsp\;&nbsp\;&nbsp\;&nbsp\;&nbsp\;&nbsp\; </span>Recognition on all print and promotional materials relating to the event as well<br />\n	&nbsp\; &nbsp\; &nbsp\; &nbsp\; &nbsp\; as special recognition at lunch<br />\n	<span style="color: rgb(192\, 0\, 0)\;">&middot\;&nbsp\;&nbsp\;&nbsp\;&nbsp\;&nbsp\;&nbsp\;&nbsp\;&nbsp\; </span>Pre and post event publicity in the Hi-Lites\,&nbsp\;Times Indicator &amp\;&nbsp\;River Valley<br />\n	&nbsp\; &nbsp\; &nbsp\; &nbsp\; &nbsp\; Shopper as well as&nbsp\;Social Media &amp\; Website<br />\n	<span style="color: rgb(192\, 0\, 0)\;">&middot\; &nbsp\; &nbsp\; &nbsp\; &nbsp\;&nbsp\;</span>Company&nbsp\; recognition signage at registration<br />\n	<span style="color: rgb(192\, 0\, 0)\;">&middot\;&nbsp\;&nbsp\;&nbsp\;&nbsp\;&nbsp\;&nbsp\;&nbsp\;&nbsp\; </span>Opportunity to provide Golf Gifts as a sponsor (ie\; sleeve of golf balls\, towels\,<br />\n	&nbsp\;&nbsp\;&nbsp\;&nbsp\;&nbsp\;&nbsp\;&nbsp\;&nbsp\;&nbsp\; etc.) and/or company materials in gift bags (distributed to all golf attendees)</span><br />\n	<br />\n	<span style="font-size: 12px\;"><span style="font-family: arial\;"><strong><span style="font-size: 16px\;">Hole Sponsor: (36 Available)<span style="color: rgb(128\, 0\, 0)\;"> $75.00</span></span></strong></span></span><br />\n	<br />\n	<span style="font-size: 12px\;"><span style="color: rgb(192\, 0\, 0)\;">&middot\;&nbsp\;&nbsp\;&nbsp\;&nbsp\;&nbsp\;&nbsp\;&nbsp\;&nbsp\; </span>Company name listed as sponsor on hole signage<br />\n	<span style="color: rgb(192\, 0\, 0)\;">&middot\; &nbsp\; &nbsp\; &nbsp\; &nbsp\;&nbsp\;</span>Opportunity to provide Golf Gifts as a sponsor (ie\; sleeve of golf balls\, towels\,<br />\n	&nbsp\;&nbsp\;&nbsp\;&nbsp\;&nbsp\;&nbsp\;&nbsp\;&nbsp\;&nbsp\; and/or company materials in gift bags (distributed to all golf attendees)</span></div>\n<br />\n
LOCATION:Village Green Golf Course 8130 Bingham Ave Newaygo\, MI 49337
UID:e.1709.49
SEQUENCE:3
DTSTAMP:20260421T031905Z
URL:https://www.rivercountrychamber.com/events/details/golf-outing-hosted-by-newaygo-area-chamber-of-commerce-07-30-2013-49
END:VEVENT

END:VCALENDAR
