BEGIN:VCALENDAR
VERSION:2.0
PRODID:-//ChamberMaster//Event Calendar 2.0//EN
METHOD:PUBLISH
X-PUBLISHED-TTL:P3D
REFRESH-INTERVAL:P3D
CALSCALE:GREGORIAN
BEGIN:VEVENT
DTSTART:20130807T220000Z
DTEND:20130808T000000Z
X-MICROSOFT-CDO-ALLDAYEVENT:FALSE
SUMMARY:Grand Rapids Accordion Ensemble Concert
DESCRIPTION:Grand Rapids Accordion Ensemble Concert\n\n	with free Hotdog Dinner\n\n	Wednesday\, August 7\n\n	Brooks Park Downtown Newaygo\n\n	Dinner Served 6:00   7:00\n\n	Concert Starts at 7:00pm\nBring Lawn Chairs or Blankets                                Great Family Entertainment\n\nFree Will Offering                                                   Music for all ages!!
X-ALT-DESC;FMTTYPE=text/html:<h1 style="color: blue\; text-align: center\;">\n	<span style="color:#000080\;"><span style="font-family:comic sans ms\;">Grand Rapids Accordion Ensemble Concert</span></span></h1>\n<div style="text-align: center\;">\n	<strong><span style="font-size:16px\;"><span style="color:#000080\;">with free Hotdog Dinner</span></span></strong></div>\n<div style="text-align: center\;">\n	<strong><span style="font-size:16px\;"><span style="color:#000080\;">Wednesday\, August 7<br />\n	Brooks Park Downtown Newaygo</span></span></strong></div>\n<div style="text-align: center\;">\n	<span style="color:#ff0000\;"><strong><span style="font-size:16px\;">Dinner Served 6:00 &mdash\; 7:00</span></strong></span><br />\n	<span style="font-size:20px\;"><strong style="color: rgb(0\, 0\, 128)\;">Concert Starts at 7:00pm</strong></span></div>\n<strong><span style="font-size:14px\;"><span style="font-size:12px\;">Bring Lawn Chairs or Blankets</span>&nbsp\; &nbsp\; &nbsp\; &nbsp\; &nbsp\; &nbsp\; &nbsp\; &nbsp\; &nbsp\; &nbsp\; &nbsp\; &nbsp\; &nbsp\; &nbsp\; &nbsp\; &nbsp\;<span style="color:#ff0000\;"> Great Family Entertainment</span><br />\n<span style="font-size:12px\;">Free Will Offering &nbsp\;</span>&nbsp\; &nbsp\; &nbsp\; &nbsp\; &nbsp\; &nbsp\; &nbsp\; &nbsp\; &nbsp\; &nbsp\; &nbsp\; &nbsp\; &nbsp\; &nbsp\; &nbsp\; &nbsp\; &nbsp\; &nbsp\; &nbsp\; &nbsp\; &nbsp\; &nbsp\; &nbsp\; &nbsp\;&nbsp\;<span style="color:#ff0000\;">&nbsp\;Music for all ages!!</span></span></strong><br />\n&nbsp\;
LOCATION:Brooks Park in Downtown Newaygo
UID:e.1709.267
SEQUENCE:3
DTSTAMP:20260421T005513Z
URL:https://www.rivercountrychamber.com/events/details/grand-rapids-accordion-ensemble-concert-08-07-2013-267
END:VEVENT

END:VCALENDAR
