BEGIN:VCALENDAR
VERSION:2.0
PRODID:-//ChamberMaster//Event Calendar 2.0//EN
METHOD:PUBLISH
X-PUBLISHED-TTL:P3D
REFRESH-INTERVAL:P3D
CALSCALE:GREGORIAN
BEGIN:VEVENT
DTSTART:20210505T160000Z
DTEND:20210505T171500Z
X-MICROSOFT-CDO-ALLDAYEVENT:FALSE
SUMMARY:Grow with Google Series: Sell Online with Email Marketing Tools
DESCRIPTION:Once you've started selling online\, you may be looking for new opportunities to market your products and services. Email marketing can help you increase sales by reaching customers with the right message\, at the right time. In this Partner Digital Series workshop hosted by Google and Constant Contact\, you'll learn how to engage customers with well-designed emails\, segment your customer base to deliver tailored messages\, and track performance to refine your strategy.
X-ALT-DESC;FMTTYPE=text/html:<span style="color: rgb(5\, 5\, 5)\; font-family: &quot\;Segoe UI Historic&quot\;\, &quot\;Segoe UI&quot\;\, Helvetica\, Arial\, sans-serif\; font-size: 15px\;">Once you&rsquo\;ve started selling online\, you may be looking for new opportunities to market your products and services. Email marketing can help you increase sales by reaching customers with the right message\, at the right time. In this Partner Digital Series workshop hosted by Google and Constant Contact\, you&rsquo\;ll learn how to engage customers with well-designed emails\, segment your customer base to deliver tailored messages\, and track performance to refine your strategy.</span>
LOCATION:Join Zoom Meeting https://us02web.zoom.us/j/86182412878 Meeting ID: 861 8241 2878 One tap mobile +16465588656\,\,86182412878# US (New York) +13017158592\,\,86182412878# US (Washington DC) Dial by your location +1 646 558 8656 US (New York) +1 301 715 8592 US (Washington DC) +1 312 626 6799 US (Chicago) +1 669 900 9128 US (San Jose) +1 253 215 8782 US (Tacoma) +1 346 248 7799 US (Houston) Meeting ID: 861 8241 2878 Find your local number: https://us02web.zoom.us/u/kdXeB1oyGh
UID:e.1709.37735
SEQUENCE:3
DTSTAMP:20260424T205324Z
URL:https://www.rivercountrychamber.com/events/details/grow-with-google-series-sell-online-with-email-marketing-tools-37735
END:VEVENT

END:VCALENDAR
