BEGIN:VCALENDAR
VERSION:2.0
PRODID:-//ChamberMaster//Event Calendar 2.0//EN
METHOD:PUBLISH
X-PUBLISHED-TTL:P3D
REFRESH-INTERVAL:P3D
CALSCALE:GREGORIAN
BEGIN:VEVENT
DTSTART;VALUE=DATE:20220716
DTEND;VALUE=DATE:20220718
TRANSP:TRANSPARENT
X-MICROSOFT-CDO-ALLDAYEVENT:TRUE
SUMMARY:Gus Macker Food Vendors 2022
DESCRIPTION:Newaygo County Gus Macker Tournament 2022 Food Vendors\n\n\n\nWe are excited to bring Gus Macker to Newaygo County! We have had our Committee attend the National Gus Macker Conference and several meetings to ensure this event will run smoothly\, be successful and create memories for years to come. We are projected to have 7\,000-10\,000 guests over the weekend. Our goal is to have 6 main food trucks and a few smaller one's. \n\n\n\nArrival: Set up Food Truck station Friday evening (7/15). Or Saturday & Sunday before event begins. We will not allow any vehicle traffic during the event. Venue space will have on site-security. \n\nDeparture: Tournament is expected to be completed by 4pm on Sunday. Entrance will be opened after that to leave. \n\nPower: Generators allowed. We will not have power available. \n\nParking: Please let me know if you need your vehicle next to your food truck for operation purposes so we can accommodate\n\nMenu: We will try to be as non-competitive as possible within the event area. Please list your main items on the registration forms.\n\nFee: $400 for both days\n\nDeadline: Registration and Payment are due no later than June 15th.
X-ALT-DESC;FMTTYPE=text/html:<strong><span style="font-size:18px\;">Newaygo County Gus Macker Tournament 2022 Food Vendors</span></strong><br />\n<br />\n<span style="font-size:16px\;">We are excited to bring Gus Macker to Newaygo County! We have had our Committee attend the National Gus Macker Conference and several meetings to ensure this event will run smoothly\, be successful and create memories for years to come. We are projected to have 7\,000-10\,000 guests over the weekend. Our goal is to have 6 main food trucks and a few smaller one&#39\;s.&nbsp\;<br />\n<br />\n<strong>Arrival:</strong> Set up Food Truck station Friday evening (7/15). Or Saturday &amp\; Sunday before event begins. We will not allow any vehicle traffic during the event. Venue space will have on site-security.&nbsp\;<br />\n<strong>Departure:</strong> Tournament is expected to be completed by 4pm on Sunday. Entrance will be opened after that to leave.&nbsp\;<br />\n<strong>Power:</strong> Generators allowed. We will not have power available.&nbsp\;<br />\n<strong>Parking:</strong> Please let me know if you need your vehicle next to your food truck for operation purposes so we can accommodate<br />\n<strong>Menu:</strong> We will try to be as non-competitive as possible within the event area. Please list your main items on the registration forms.<br />\n<strong>Fee: </strong>$400 for both days<br />\n<strong>Deadline: </strong>Registration and Payment are due no later than June 15th.</span>
LOCATION:Newaygo Middle School 850 E 76th St Newaygo\, MI 49337
UID:e.1709.38860
SEQUENCE:3
DTSTAMP:20260422T075218Z
URL:https://www.rivercountrychamber.com/events/details/gus-macker-food-vendors-2022-38860
END:VEVENT

END:VCALENDAR
