BEGIN:VCALENDAR
VERSION:2.0
PRODID:-//ChamberMaster//Event Calendar 2.0//EN
METHOD:PUBLISH
X-PUBLISHED-TTL:P3D
REFRESH-INTERVAL:P3D
CALSCALE:GREGORIAN
BEGIN:VEVENT
DTSTART:20131025T210000Z
DTEND:20131027T230000Z
X-MICROSOFT-CDO-ALLDAYEVENT:FALSE
SUMMARY:Halloweekend @ Camp Newaygo
DESCRIPTION:Activities include\; Cabin Tours\, Halloween Crafts\, Scarecrows\, Straw Maze\, Homemade Donuts\, Face Painting\, Petting Zoo Cider Press Trolley Rides and more! Cost includes spooky cabin tours\, a Halloween craft\, homemade cider and donut\, and your choice of a family pumpkin or family scarecrow. Extra pumpkins can be purchased for $4 each. Contact Christa Smalligan at (231) 652-1184 or email csmalligan@campnewaygo.org for questions and group reservation information.
X-ALT-DESC;FMTTYPE=text/html:Activities include\; Cabin Tours\, Halloween Crafts\, Scarecrows\, Straw Maze\, Homemade Donuts\, Face Painting\, Petting Zoo Cider Press Trolley Rides and more! Cost includes spooky cabin tours\, a Halloween craft\, homemade cider and donut\, and your choice of a family pumpkin or family scarecrow. Extra pumpkins can be purchased for $4 each. Contact Christa Smalligan at (231) 652-1184 or email csmalligan@campnewaygo.org for questions and group reservation information.
LOCATION:Camp Newaygo
UID:e.1709.463
SEQUENCE:3
DTSTAMP:20260420T221454Z
URL:https://www.rivercountrychamber.com/events/details/halloweekend-camp-newaygo-10-25-2013-463
END:VEVENT

END:VCALENDAR
