BEGIN:VCALENDAR
VERSION:2.0
PRODID:-//ChamberMaster//Event Calendar 2.0//EN
METHOD:PUBLISH
X-PUBLISHED-TTL:P3D
REFRESH-INTERVAL:P3D
CALSCALE:GREGORIAN
BEGIN:VEVENT
DTSTART:20131031T210000Z
DTEND:20131031T230000Z
X-MICROSOFT-CDO-ALLDAYEVENT:FALSE
SUMMARY:Halloween Parade - Newaygo
DESCRIPTION:THE NEWAYGO AREA CHAMBER OF COMMERCE TOGETHER WITH THE NEWAYGO COUNTY MUSEUM AND FAMILY OF GOD COMMUNITY CHURCH Are Proud to Present HALLOWEEN PARADE \n\nTRUNK OR TREAT & HALLOWEEN AT THE MUSEUM\n\n\n\nTHURSDAY\, OCTOBER 31 AT 5:00 PM\, Brooks Park   Downtown Newaygo In front of stage \n\n\n\nPlease join us for a parade Starting at City Hall/Brooks Park and ending at Fair Street \n\n\n\nKids are then invited to Trunk or Treat in the Family of God Community Church parking lot and take a ghostly tour of the Newaygo County Museum spooky exhibits   surprises will await \n\nthose who make it through in once piece\n\n\n\n5:00 pm - Parade Line Up - Brooks Park \n\n\n\n5:30 pm - 6:30 pm - Trunk or Treat\n\nparking lot of Family of God Community Church \n\n\n\n5:30 - 7:00 pm Spooky Exhibits & Spook House \n\nNewaygo County Museum
X-ALT-DESC;FMTTYPE=text/html:<br />\n<span style="color: rgb(51\, 51\, 51)\; font-family: 'lucida grande'\, tahoma\, verdana\, arial\, sans-serif\; font-size: 13px\; font-style: normal\; font-variant: normal\; font-weight: normal\; letter-spacing: normal\; line-height: 16px\; orphans: auto\; text-align: left\; text-indent: 0px\; text-transform: none\; white-space: normal\; widows: auto\; word-spacing: 0px\; -webkit-text-stroke-width: 0px\; background-color: rgb(255\, 255\, 255)\; display: inline !important\; float: none\;">THE NEWAYGO AREA CHAMBER OF COMMERCE TOGETHER WITH THE NEWAYGO COUNTY MUSEUM AND FAMILY OF GOD COMMUNITY CHURCH Are Proud to Present HALLOWEEN PARADE<span class="Apple-converted-space">&nbsp\;</span></span><br style="color: rgb(51\, 51\, 51)\; font-family: 'lucida grande'\, tahoma\, verdana\, arial\, sans-serif\; font-size: 13px\; font-style: normal\; font-variant: normal\; font-weight: normal\; letter-spacing: normal\; line-height: 16px\; orphans: auto\; text-align: left\; text-indent: 0px\; text-transform: none\; white-space: normal\; widows: auto\; word-spacing: 0px\; -webkit-text-stroke-width: 0px\; background-color: rgb(255\, 255\, 255)\;" />\n<span style="color: rgb(51\, 51\, 51)\; font-family: 'lucida grande'\, tahoma\, verdana\, arial\, sans-serif\; font-size: 13px\; font-style: normal\; font-variant: normal\; font-weight: normal\; letter-spacing: normal\; line-height: 16px\; orphans: auto\; text-align: left\; text-indent: 0px\; text-transform: none\; white-space: normal\; widows: auto\; word-spacing: 0px\; -webkit-text-stroke-width: 0px\; background-color: rgb(255\, 255\, 255)\; display: inline !important\; float: none\;">TRUNK OR TREAT &amp\; HALLOWEEN AT THE MUSEUM</span><br style="color: rgb(51\, 51\, 51)\; font-family: 'lucida grande'\, tahoma\, verdana\, arial\, sans-serif\; font-size: 13px\; font-style: normal\; font-variant: normal\; font-weight: normal\; letter-spacing: normal\; line-height: 16px\; orphans: auto\; text-align: left\; text-indent: 0px\; text-transform: none\; white-space: normal\; widows: auto\; word-spacing: 0px\; -webkit-text-stroke-width: 0px\; background-color: rgb(255\, 255\, 255)\;" />\n<br style="color: rgb(51\, 51\, 51)\; font-family: 'lucida grande'\, tahoma\, verdana\, arial\, sans-serif\; font-size: 13px\; font-style: normal\; font-variant: normal\; font-weight: normal\; letter-spacing: normal\; line-height: 16px\; orphans: auto\; text-align: left\; text-indent: 0px\; text-transform: none\; white-space: normal\; widows: auto\; word-spacing: 0px\; -webkit-text-stroke-width: 0px\; background-color: rgb(255\, 255\, 255)\;" />\n<span style="color: rgb(51\, 51\, 51)\; font-family: 'lucida grande'\, tahoma\, verdana\, arial\, sans-serif\; font-size: 13px\; font-style: normal\; font-variant: normal\; font-weight: normal\; letter-spacing: normal\; line-height: 16px\; orphans: auto\; text-align: left\; text-indent: 0px\; text-transform: none\; white-space: normal\; widows: auto\; word-spacing: 0px\; -webkit-text-stroke-width: 0px\; background-color: rgb(255\, 255\, 255)\; display: inline !important\; float: none\;">THURSDAY\, OCTOBER 31 AT 5:00 PM\, Brooks Park &ndash\; Downtown Newaygo In front of stage<span class="Apple-converted-space">&nbsp\;</span></span><br style="color: rgb(51\, 51\, 51)\; font-family: 'lucida grande'\, tahoma\, verdana\, arial\, sans-serif\; font-size: 13px\; font-style: normal\; font-variant: normal\; font-weight: normal\; letter-spacing: normal\; line-height: 16px\; orphans: auto\; text-align: left\; text-indent: 0px\; text-transform: none\; white-space: normal\; widows: auto\; word-spacing: 0px\; -webkit-text-stroke-width: 0px\; background-color: rgb(255\, 255\, 255)\;" />\n<br />\n<span class="text_exposed_show" style="display: inline\; color: rgb(51\, 51\, 51)\; font-family: 'lucida grande'\, tahoma\, verdana\, arial\, sans-serif\; font-size: 13px\; font-style: normal\; font-variant: normal\; font-weight: normal\; letter-spacing: normal\; line-height: 16px\; orphans: auto\; text-align: left\; text-indent: 0px\; text-transform: none\; white-space: normal\; widows: auto\; word-spacing: 0px\; -webkit-text-stroke-width: 0px\; background-color: rgb(255\, 255\, 255)\;">Please join us for a parade Starting at City Hall/Brooks Park and ending at Fair Street<span class="Apple-converted-space">&nbsp\;</span><br />\n<br />\nKids are then invited to Trunk or Treat in the Family of God Community Church parking lot and take a ghostly tour of the Newaygo County Museum spooky exhibits &ndash\; surprises will await<span class="Apple-converted-space">&nbsp\;</span><br />\nthose who make it through in once piece<br />\n<br />\n5:00 pm - Parade Line Up - Brooks Park<span class="Apple-converted-space">&nbsp\;</span><br />\n<br />\n5:30 pm - 6:30 pm - Trunk or Treat<br />\nparking lot of Family of God Community Church<span class="Apple-converted-space">&nbsp\;</span><br />\n<br />\n5:30 - 7:00 pm Spooky Exhibits &amp\; Spook House<span class="Apple-converted-space">&nbsp\;</span><br />\n<a data-hovercard="/ajax/hovercard/page.php?id=150123098386865&amp\;extragetparams=%7B%22directed_target_id%22%3A0%7D" href="https://www.facebook.com/newaygocountymuseum?directed_target_id=0" style="color: rgb(59\, 89\, 152)\; cursor: pointer\; text-decoration: none\;">Newaygo County Museum</a></span>
LOCATION:Parade Starts at Brooks Park Downtown Newaygo
UID:e.1709.460
SEQUENCE:3
DTSTAMP:20260420T233525Z
URL:https://www.rivercountrychamber.com/events/details/halloween-parade-newaygo-10-31-2013-460
END:VEVENT

END:VCALENDAR
