BEGIN:VCALENDAR
VERSION:2.0
PRODID:-//ChamberMaster//Event Calendar 2.0//EN
METHOD:PUBLISH
X-PUBLISHED-TTL:P3D
REFRESH-INTERVAL:P3D
CALSCALE:GREGORIAN
BEGIN:VEVENT
DTSTART;VALUE=DATE:20130921
DTEND;VALUE=DATE:20130922
TRANSP:TRANSPARENT
X-MICROSOFT-CDO-ALLDAYEVENT:TRUE
SUMMARY:Harvest Festival @ Sandy Beach County Park
DESCRIPTION:2013 Harvest Festival\n\n	Sandy Beach County Park\n\n	\n\n	September 21st \n\n	Fun begins at NOON! \n\n	\n\n	Come enjoy a haunted trail\, horse drawn wagon rides\, trick or treating\, chili cook-off\, bake-off\, contests\, games & prizes for children and adults!\n\n	We do have a rain date of September 28th...just in case!\n\n	*Free event for Sandy Beach Campers - Make your reservations today!*\n\n	www.facebook.com/NCParks or www.countyofnewaygo.com/parks
X-ALT-DESC;FMTTYPE=text/html:<div style="text-align: center">\n	<br />\n	<span style="color: #ff8c00"><span style="font-size: 36px"><span style="font-family: verdana"><big>2013 Harvest Festival</big></span><br />\n	Sandy Beach County Park</span><br />\n	<br />\n	<span style="font-size: 26px"><span style="font-family: verdana">September 21st&nbsp\;<br />\n	Fun&nbsp\;begins at NOON!&nbsp\;</span></span></span><br />\n	<br />\n	<span style="font-size: 22px"><span style="font-size: 18px">Come enjoy a haunted trail\, horse drawn wagon rides\, trick or treating\, chili cook-off\, bake-off\, contests\, games&nbsp\;&amp\; prizes for children and adults!</span><br />\n	<span style="font-size: 14px">We do have a rain date of September 28th...just in case!<br />\n	*Free event&nbsp\;for&nbsp\;Sandy Beach Campers - Make your reservations today!*<br />\n	<a href="http://www.facebook.com/NCParks">www.facebook.com/NCParks</a>&nbsp\;or <a href="http://www.countyofnewaygo.com/parks">www.countyofnewaygo.com/parks</a> </span></span></div>\n
LOCATION:6926 30th St. White Cloud\, MI 49349
UID:e.1709.277
SEQUENCE:3
DTSTAMP:20260420T233746Z
URL:https://www.rivercountrychamber.com/events/details/harvest-festival-sandy-beach-county-park-09-21-2013-277
END:VEVENT

END:VCALENDAR
