BEGIN:VCALENDAR
VERSION:2.0
PRODID:-//ChamberMaster//Event Calendar 2.0//EN
METHOD:PUBLISH
X-PUBLISHED-TTL:P3D
REFRESH-INTERVAL:P3D
CALSCALE:GREGORIAN
BEGIN:VEVENT
DTSTART:20200926T163000Z
DTEND:20200926T190000Z
X-MICROSOFT-CDO-ALLDAYEVENT:FALSE
SUMMARY:Harvest Moon Festival Brat Eating Contest
DESCRIPTION:Gene's Family Market is sponsoring the Harvest Moon Festival's newest event! \n\n\n\nBrat Eating Contest\n\n \n\nHow many brats (with bun) can you eat in 3 minutes?  Do you think you can compete? Prizes for 1st - 3rd place for both the adult & Children 13 and under divisions\n\n\n\nCLICK HERE for rules and prize information & paper registration (may be dropped off at any Gene's Family Market location or to the River Country Chamber office.\n\n\n\nSign up today as advanced registration is required (no later than September 25th at 4pm) so Elliot can make sure to have enough brats ready to go.  Condiments and water will be available during the challenge!\n\n\n\nGene's Locations:\n\nGrant\n\n33 E State Rd\, Grant\, MI 49327\n\n\n\nCroton\n\n7303 S Croton Hardy Dr\, Newaygo MI 49337\n\n\n\nChamber Office\n\n1 State Rd\, Newaygo MI\n\n2nd Floor (Stream Building)
X-ALT-DESC;FMTTYPE=text/html:<div style="text-align: center\;"><strong><span style="font-size:16px\;">Gene&#39\;s Family Market is sponsoring the Harvest Moon Festival&#39\;s newest event!&nbsp\;<br />\n<br />\n<span style="font-size:20px\;"><span style="color:#2F4F4F\;"><span style="font-size:24px\;">Brat Eating Contest</span></span></span></span></strong><br />\n&nbsp\;</div>\n\n<div><strong><span style="font-size:16px\;"><span style="font-size:18px\;"><span style="font-size:16px\;"><span style="font-size:20px\;">How many brats (with bun) can you eat in 3 minutes?&nbsp\; Do you think you can compete? Prizes for 1st - 3rd place for both the adult &amp\; Children 13 and under&nbsp\;divisions</span><br />\n<br />\n<em><a href="https://chambermaster.blob.core.windows.net/userfiles/UserFiles/chambers/1709/File/Harvest_Moon_Celebration/2020/rulesflyerentryformBrats.pdf">CLICK HERE for rules and prize information</a>&nbsp\;&amp\; paper registration (may be dropped off at any Gene&#39\;s Family Market location or to the River Country Chamber office.</em><br />\n<br />\nSign up today as advanced registration is required (no later than September 25th at 4pm) so Elliot can make sure to have enough brats ready to go.&nbsp\; Condiments and water will be available during the challenge!</span></span></span></strong><br />\n<br />\nGene&#39\;s Locations:<br />\nGrant<br />\n33 E State Rd\, Grant\, MI 49327<br />\n<br />\nCroton<br />\n7303 S Croton Hardy Dr\, Newaygo MI 49337<br />\n<br />\nChamber Office<br />\n1 State Rd\, Newaygo MI<br />\n2nd Floor (Stream Building)<br />\n&nbsp\;</div>\n
LOCATION:Contest will take place behind the Rite Aid Building in Downtown Grant (Rite Aid address: 53 S Maple St\, Grant MI 49327)
UID:e.1709.37628
SEQUENCE:3
DTSTAMP:20260421T162559Z
URL:https://www.rivercountrychamber.com/events/details/harvest-moon-festival-brat-eating-contest-37628
END:VEVENT

END:VCALENDAR
