BEGIN:VCALENDAR
VERSION:2.0
PRODID:-//ChamberMaster//Event Calendar 2.0//EN
METHOD:PUBLISH
X-PUBLISHED-TTL:P3D
REFRESH-INTERVAL:P3D
CALSCALE:GREGORIAN
BEGIN:VEVENT
DTSTART:20130413T130000Z
DTEND:20130413T190000Z
X-MICROSOFT-CDO-ALLDAYEVENT:FALSE
SUMMARY:Home & Garden Show Sponsored by Kerkstra Services & Mellema Nursery
DESCRIPTION:Make plans to stop by the Newaygo Home and Garden Show sponsored by Kerkstra Services and Mellema Nursery. It's this coming Saturday April 13 at the Newaygo Middle School. Show hours are 9 am - 3 pm - This years exhibit space is sold out with several exhibitors on the lawn in front of the school. Be sure to stop in and have breakfast at any of the local Newaygo restaurants and then stop by the show.  There are sure to be products and services you have not seen before.\n\n\n\nClick for a complete vendor floor plan\n\n\n\nBooth           Exhibitor\n\n101               Orchard Hill Mechanical\n\n102               Farmers Insurance Agency\n\n103               Greenridge Realty Inc.\n\n104               Amy Marie Photography\n\n105               Absolute Comfort Mechanical Contractors\, Inc.\n\n106               Absolute Comfort Mechanical Contractors\, Inc.\n\n107               Kodiak Construction\n\n200               Choice One Bank\n\n201               All Weather Seal\n\n202               Spectrum Health Gerber Memorial\n\n203               HomeTown Pharmacy\n\n204               Phone Directory Services\n\n205               Great Lakes Energy\n\n206               Great Lakes Energy\n\n207               International Student Exchange\n\n208               J&M Distributing\n\n209               ELT Surveillance Services\n\n210               Kohley's Superior Water & Propane\n\n211               The River Valley News Shopper\n\n212               Affordable Chimney\n\n300               Mellema Nursery\n\n301               Community Home Health Care Services\n\n302               Community Home Health Care Services\n\n303               Scentsy Family Consultant\n\n304               Baker Propane\n\n305               Natures Exotic\n\n306               Champion Windows\, Patio Rooms\, Siding\, Roofing\n\n307               Champion Windows\, Patio Rooms\, Siding\, Roofing\n\n308               Coldwell Banker Schmidt\n\n309               Lighthouse Group Title and Insurance\n\n310               Beaver Tree\n\n311               The Brew Department\n\n312               Garden Glass by Wendy Lee\n\n400               ProBuild\n\n403               Newaygo County Parks                    \n\n404               North Country Trail Association                        \n\n405               Organo Gold                   \n\n406               Window Craft                \n\n407               Window Craft                \n\n408               Nature Trail Enterprises                 \n\n409               Rocket Marketing                    \n\n410               Newaygo County Museum            \n\n411               Newaygo County Museum            \n\n412               Ross Mortgage Corporation\n\n601               Kauffman Construction\, Inc.        \n\n602               Mary Kay Cosmetics  \n\n603               Seal Tech Insulation  \n\n604               Goodwill West Michigan               \n\n605               Best Home Title Agency\, LLC      \n\n606               RE/MAX River Valley \n\n607               RE/MAX River Valley \n\n608               Rent Smart                      \n\n801               Leaffilter North of Michigan        \n\n802               Riverside Computer & Internet                       \n\n803               River City Trading       \n\n804               Kaat's Culligan               \n\n805               Bath Fitter                       \n\n806               Tire Wholesales Plus                        \n\n807               Patriot Realty                \n\n808               Buursma Distributing\n\nOutdoors      Jerry's Towing                \n\nOutdoors      Newaygo Patio & Deck                   \n\nOutdoors      Rock-N-Fire Designs   \n\nOutdoors      Platz Electric                  \n\nOutdoors      Kerkstra Services         \n\nOutdoors      H2Oasis
X-ALT-DESC;FMTTYPE=text/html:<span style="color: rgb(51\, 51\, 51)\; font-family: 'lucida grande'\, tahoma\, verdana\, arial\, sans-serif\; font-size: 13px\; line-height: 18px\;">Make plans to stop by the Newaygo Home and Garden Show sponsored by Kerkstra Services and Mellema Nursery. It&#39\;s this coming Saturday April 13 at the Newaygo Middle School. Show hours are 9 am - 3 pm - This years exhibit space is sold out with several exhibitors on the lawn in front of the school. Be sure to stop in and have breakfast at any of the local&nbsp\;Newaygo&nbsp\;restaurants&nbsp\;and then stop by the show. &nbsp\;There are sure to be products&nbsp\;and services you have not seen before.</span><br />\n<br />\n<a href="http://cloud.chambermaster.com/userfiles/UserFiles/chambers/1709/File/Copyof2013Floorplan.pdf"><span style="font-size:14px\;"><strong>Click for a complete vendor floor plan</strong></span></a><br />\n<br />\n<strong><span style="font-size:10.0pt\;">Booth &nbsp\; &nbsp\; &nbsp\; &nbsp\; &nbsp\; Exhibitor</span></strong><br />\n<span style="font-size:8.0pt\;">101&nbsp\;&nbsp\;&nbsp\;&nbsp\;&nbsp\;&nbsp\;&nbsp\;&nbsp\;&nbsp\;&nbsp\;&nbsp\;&nbsp\;&nbsp\;&nbsp\; Orchard Hill Mechanical</span><br />\n<span style="font-size:8.0pt\;">102&nbsp\;&nbsp\;&nbsp\;&nbsp\;&nbsp\;&nbsp\;&nbsp\;&nbsp\;&nbsp\;&nbsp\;&nbsp\;&nbsp\;&nbsp\;&nbsp\; Farmers Insurance Agency</span><br />\n<span style="font-size:8.0pt\;">103&nbsp\;&nbsp\;&nbsp\;&nbsp\;&nbsp\;&nbsp\;&nbsp\;&nbsp\;&nbsp\;&nbsp\;&nbsp\;&nbsp\;&nbsp\;&nbsp\; Greenridge Realty Inc.</span><br />\n<span style="font-size:8.0pt\;">104&nbsp\;&nbsp\;&nbsp\;&nbsp\;&nbsp\;&nbsp\;&nbsp\;&nbsp\;&nbsp\;&nbsp\;&nbsp\;&nbsp\;&nbsp\;&nbsp\; Amy Marie Photography</span><br />\n<span style="font-size:8.0pt\;">105&nbsp\;&nbsp\;&nbsp\;&nbsp\;&nbsp\;&nbsp\;&nbsp\;&nbsp\;&nbsp\;&nbsp\;&nbsp\;&nbsp\;&nbsp\;&nbsp\; Absolute Comfort Mechanical Contractors\, Inc.</span><br />\n<span style="font-size:8.0pt\;">106&nbsp\;&nbsp\;&nbsp\;&nbsp\;&nbsp\;&nbsp\;&nbsp\;&nbsp\;&nbsp\;&nbsp\;&nbsp\;&nbsp\;&nbsp\;&nbsp\; Absolute Comfort Mechanical Contractors\, Inc.</span><br />\n<span style="font-size:8.0pt\;">107&nbsp\;&nbsp\;&nbsp\;&nbsp\;&nbsp\;&nbsp\;&nbsp\;&nbsp\;&nbsp\;&nbsp\;&nbsp\;&nbsp\;&nbsp\;&nbsp\; Kodiak Construction</span><br />\n<span style="font-size:8.0pt\;">200&nbsp\;&nbsp\;&nbsp\;&nbsp\;&nbsp\;&nbsp\;&nbsp\;&nbsp\;&nbsp\;&nbsp\;&nbsp\;&nbsp\;&nbsp\;&nbsp\; Choice One Bank</span><br />\n<span style="font-size:8.0pt\;">201&nbsp\;&nbsp\;&nbsp\;&nbsp\;&nbsp\;&nbsp\;&nbsp\;&nbsp\;&nbsp\;&nbsp\;&nbsp\;&nbsp\;&nbsp\;&nbsp\; All Weather Seal</span><br />\n<span style="font-size:8.0pt\;">202&nbsp\;&nbsp\;&nbsp\;&nbsp\;&nbsp\;&nbsp\;&nbsp\;&nbsp\;&nbsp\;&nbsp\;&nbsp\;&nbsp\;&nbsp\;&nbsp\; Spectrum Health Gerber Memorial</span><br />\n<span style="font-size:8.0pt\;">203&nbsp\;&nbsp\;&nbsp\;&nbsp\;&nbsp\;&nbsp\;&nbsp\;&nbsp\;&nbsp\;&nbsp\;&nbsp\;&nbsp\;&nbsp\;&nbsp\; HomeTown Pharmacy</span><br />\n<span style="font-size:8.0pt\;">204&nbsp\;&nbsp\;&nbsp\;&nbsp\;&nbsp\;&nbsp\;&nbsp\;&nbsp\;&nbsp\;&nbsp\;&nbsp\;&nbsp\;&nbsp\;&nbsp\; Phone Directory Services</span><br />\n<span style="font-size:8.0pt\;">205&nbsp\;&nbsp\;&nbsp\;&nbsp\;&nbsp\;&nbsp\;&nbsp\;&nbsp\;&nbsp\;&nbsp\;&nbsp\;&nbsp\;&nbsp\;&nbsp\; Great Lakes Energy</span><br />\n<span style="font-size:8.0pt\;">206&nbsp\;&nbsp\;&nbsp\;&nbsp\;&nbsp\;&nbsp\;&nbsp\;&nbsp\;&nbsp\;&nbsp\;&nbsp\;&nbsp\;&nbsp\;&nbsp\; Great Lakes Energy</span><br />\n<span style="font-size:8.0pt\;">207&nbsp\;&nbsp\;&nbsp\;&nbsp\;&nbsp\;&nbsp\;&nbsp\;&nbsp\;&nbsp\;&nbsp\;&nbsp\;&nbsp\;&nbsp\;&nbsp\; International Student Exchange</span><br />\n<span style="font-size:8.0pt\;">208&nbsp\;&nbsp\;&nbsp\;&nbsp\;&nbsp\;&nbsp\;&nbsp\;&nbsp\;&nbsp\;&nbsp\;&nbsp\;&nbsp\;&nbsp\;&nbsp\; J&amp\;M Distributing</span><br />\n<span style="font-size:8.0pt\;">209&nbsp\;&nbsp\;&nbsp\;&nbsp\;&nbsp\;&nbsp\;&nbsp\;&nbsp\;&nbsp\;&nbsp\;&nbsp\;&nbsp\;&nbsp\;&nbsp\; ELT Surveillance Services</span><br />\n<span style="font-size:8.0pt\;">210&nbsp\;&nbsp\;&nbsp\;&nbsp\;&nbsp\;&nbsp\;&nbsp\;&nbsp\;&nbsp\;&nbsp\;&nbsp\;&nbsp\;&nbsp\;&nbsp\; Kohley&#39\;s Superior Water &amp\; Propane</span><br />\n<span style="font-size:8.0pt\;">211&nbsp\;&nbsp\;&nbsp\;&nbsp\;&nbsp\;&nbsp\;&nbsp\;&nbsp\;&nbsp\;&nbsp\;&nbsp\;&nbsp\;&nbsp\;&nbsp\; The River Valley News Shopper</span><br />\n<span style="font-size:8.0pt\;">212&nbsp\;&nbsp\;&nbsp\;&nbsp\;&nbsp\;&nbsp\;&nbsp\;&nbsp\;&nbsp\;&nbsp\;&nbsp\;&nbsp\;&nbsp\;&nbsp\; Affordable Chimney</span><br />\n<span style="font-size:8.0pt\;">300&nbsp\;&nbsp\;&nbsp\;&nbsp\;&nbsp\;&nbsp\;&nbsp\;&nbsp\;&nbsp\;&nbsp\;&nbsp\;&nbsp\;&nbsp\;&nbsp\; Mellema Nursery</span><br />\n<span style="font-size:8.0pt\;">301&nbsp\;&nbsp\;&nbsp\;&nbsp\;&nbsp\;&nbsp\;&nbsp\;&nbsp\;&nbsp\;&nbsp\;&nbsp\;&nbsp\;&nbsp\;&nbsp\; Community Home Health Care Services</span><br />\n<span style="font-size:8.0pt\;">302&nbsp\;&nbsp\;&nbsp\;&nbsp\;&nbsp\;&nbsp\;&nbsp\;&nbsp\;&nbsp\;&nbsp\;&nbsp\;&nbsp\;&nbsp\;&nbsp\; Community Home Health Care Services</span><br />\n<span style="font-size:8.0pt\;">303&nbsp\;&nbsp\;&nbsp\;&nbsp\;&nbsp\;&nbsp\;&nbsp\;&nbsp\;&nbsp\;&nbsp\;&nbsp\;&nbsp\;&nbsp\;&nbsp\; Scentsy Family Consultant</span><br />\n<span style="font-size:8.0pt\;">304&nbsp\;&nbsp\;&nbsp\;&nbsp\;&nbsp\;&nbsp\;&nbsp\;&nbsp\;&nbsp\;&nbsp\;&nbsp\;&nbsp\;&nbsp\;&nbsp\; Baker Propane</span><br />\n<span style="font-size:8.0pt\;">305&nbsp\;&nbsp\;&nbsp\;&nbsp\;&nbsp\;&nbsp\;&nbsp\;&nbsp\;&nbsp\;&nbsp\;&nbsp\;&nbsp\;&nbsp\;&nbsp\; Natures Exotic</span><br />\n<span style="font-size:8.0pt\;">306&nbsp\;&nbsp\;&nbsp\;&nbsp\;&nbsp\;&nbsp\;&nbsp\;&nbsp\;&nbsp\;&nbsp\;&nbsp\;&nbsp\;&nbsp\;&nbsp\; Champion Windows\, Patio Rooms\, Siding\, Roofing</span><br />\n<span style="font-size:8.0pt\;">307&nbsp\;&nbsp\;&nbsp\;&nbsp\;&nbsp\;&nbsp\;&nbsp\;&nbsp\;&nbsp\;&nbsp\;&nbsp\;&nbsp\;&nbsp\;&nbsp\; Champion Windows\, Patio Rooms\, Siding\, Roofing</span><br />\n<span style="font-size:8.0pt\;">308&nbsp\;&nbsp\;&nbsp\;&nbsp\;&nbsp\;&nbsp\;&nbsp\;&nbsp\;&nbsp\;&nbsp\;&nbsp\;&nbsp\;&nbsp\;&nbsp\; Coldwell Banker Schmidt</span><br />\n<span style="font-size:8.0pt\;">309&nbsp\;&nbsp\;&nbsp\;&nbsp\;&nbsp\;&nbsp\;&nbsp\;&nbsp\;&nbsp\;&nbsp\;&nbsp\;&nbsp\;&nbsp\;&nbsp\; Lighthouse Group Title and Insurance</span><br />\n<span style="font-size:8.0pt\;">310&nbsp\;&nbsp\;&nbsp\;&nbsp\;&nbsp\;&nbsp\;&nbsp\;&nbsp\;&nbsp\;&nbsp\;&nbsp\;&nbsp\;&nbsp\;&nbsp\; Beaver Tree</span><br />\n<span style="font-size:8.0pt\;">311&nbsp\;&nbsp\;&nbsp\;&nbsp\;&nbsp\;&nbsp\;&nbsp\;&nbsp\;&nbsp\;&nbsp\;&nbsp\;&nbsp\;&nbsp\;&nbsp\; The Brew Department</span><br />\n<span style="font-size:8.0pt\;">312&nbsp\;&nbsp\;&nbsp\;&nbsp\;&nbsp\;&nbsp\;&nbsp\;&nbsp\;&nbsp\;&nbsp\;&nbsp\;&nbsp\;&nbsp\;&nbsp\; Garden Glass by Wendy Lee</span><br />\n<span style="font-size:8.0pt\;">400&nbsp\;&nbsp\;&nbsp\;&nbsp\;&nbsp\;&nbsp\;&nbsp\;&nbsp\;&nbsp\;&nbsp\;&nbsp\;&nbsp\;&nbsp\;&nbsp\; ProBuild</span><br />\n<span style="font-size:8.0pt\;">403&nbsp\;&nbsp\;&nbsp\;&nbsp\;&nbsp\;&nbsp\;&nbsp\;&nbsp\;&nbsp\;&nbsp\;&nbsp\;&nbsp\;&nbsp\;&nbsp\; Newaygo County Parks&nbsp\;&nbsp\;&nbsp\;&nbsp\;&nbsp\;&nbsp\;&nbsp\;&nbsp\;&nbsp\;&nbsp\;&nbsp\;&nbsp\;&nbsp\;&nbsp\;&nbsp\;&nbsp\;&nbsp\;&nbsp\;&nbsp\; </span><br />\n<span style="font-size:8.0pt\;">404&nbsp\;&nbsp\;&nbsp\;&nbsp\;&nbsp\;&nbsp\;&nbsp\;&nbsp\;&nbsp\;&nbsp\;&nbsp\;&nbsp\;&nbsp\;&nbsp\; North Country Trail Association&nbsp\;&nbsp\;&nbsp\;&nbsp\;&nbsp\;&nbsp\;&nbsp\;&nbsp\;&nbsp\;&nbsp\;&nbsp\;&nbsp\;&nbsp\;&nbsp\;&nbsp\;&nbsp\;&nbsp\;&nbsp\;&nbsp\;&nbsp\;&nbsp\;&nbsp\;&nbsp\; </span><br />\n<span style="font-size:8.0pt\;">405&nbsp\;&nbsp\;&nbsp\;&nbsp\;&nbsp\;&nbsp\;&nbsp\;&nbsp\;&nbsp\;&nbsp\;&nbsp\;&nbsp\;&nbsp\;&nbsp\; Organo Gold&nbsp\;&nbsp\;&nbsp\;&nbsp\;&nbsp\;&nbsp\;&nbsp\;&nbsp\;&nbsp\;&nbsp\;&nbsp\;&nbsp\;&nbsp\;&nbsp\;&nbsp\;&nbsp\;&nbsp\;&nbsp\; </span><br />\n<span style="font-size:8.0pt\;">406&nbsp\;&nbsp\;&nbsp\;&nbsp\;&nbsp\;&nbsp\;&nbsp\;&nbsp\;&nbsp\;&nbsp\;&nbsp\;&nbsp\;&nbsp\;&nbsp\; Window Craft&nbsp\;&nbsp\;&nbsp\;&nbsp\;&nbsp\;&nbsp\;&nbsp\;&nbsp\;&nbsp\;&nbsp\;&nbsp\;&nbsp\;&nbsp\;&nbsp\;&nbsp\; </span><br />\n<span style="font-size:8.0pt\;">407&nbsp\;&nbsp\;&nbsp\;&nbsp\;&nbsp\;&nbsp\;&nbsp\;&nbsp\;&nbsp\;&nbsp\;&nbsp\;&nbsp\;&nbsp\;&nbsp\; Window Craft&nbsp\;&nbsp\;&nbsp\;&nbsp\;&nbsp\;&nbsp\;&nbsp\;&nbsp\;&nbsp\;&nbsp\;&nbsp\;&nbsp\;&nbsp\;&nbsp\;&nbsp\; </span><br />\n<span style="font-size:8.0pt\;">408&nbsp\;&nbsp\;&nbsp\;&nbsp\;&nbsp\;&nbsp\;&nbsp\;&nbsp\;&nbsp\;&nbsp\;&nbsp\;&nbsp\;&nbsp\;&nbsp\; Nature Trail Enterprises&nbsp\;&nbsp\;&nbsp\;&nbsp\;&nbsp\;&nbsp\;&nbsp\;&nbsp\;&nbsp\;&nbsp\;&nbsp\;&nbsp\;&nbsp\;&nbsp\;&nbsp\;&nbsp\; </span><br />\n<span style="font-size:8.0pt\;">409 &nbsp\; &nbsp\; &nbsp\; &nbsp\; &nbsp\; &nbsp\; &nbsp\; Rocket Marketing&nbsp\; &nbsp\; &nbsp\; &nbsp\; &nbsp\; &nbsp\; &nbsp\; &nbsp\; &nbsp\; &nbsp\;&nbsp\;</span><br />\n<span style="font-size:8.0pt\;">410&nbsp\;&nbsp\;&nbsp\;&nbsp\;&nbsp\;&nbsp\;&nbsp\;&nbsp\;&nbsp\;&nbsp\;&nbsp\;&nbsp\;&nbsp\;&nbsp\; Newaygo County Museum&nbsp\;&nbsp\;&nbsp\;&nbsp\;&nbsp\;&nbsp\;&nbsp\;&nbsp\;&nbsp\;&nbsp\;&nbsp\; </span><br />\n<span style="font-size:8.0pt\;">411&nbsp\;&nbsp\;&nbsp\;&nbsp\;&nbsp\;&nbsp\;&nbsp\;&nbsp\;&nbsp\;&nbsp\;&nbsp\;&nbsp\;&nbsp\;&nbsp\; Newaygo County Museum&nbsp\;&nbsp\;&nbsp\;&nbsp\;&nbsp\;&nbsp\;&nbsp\;&nbsp\;&nbsp\;&nbsp\;&nbsp\; </span><br />\n<span style="font-size:8.0pt\;">412&nbsp\;&nbsp\;&nbsp\;&nbsp\;&nbsp\;&nbsp\;&nbsp\;&nbsp\;&nbsp\;&nbsp\;&nbsp\;&nbsp\;&nbsp\;&nbsp\; Ross Mortgage Corporation</span><br />\n<span style="font-size:8.0pt\;">601&nbsp\;&nbsp\;&nbsp\;&nbsp\;&nbsp\;&nbsp\;&nbsp\;&nbsp\;&nbsp\;&nbsp\;&nbsp\;&nbsp\;&nbsp\;&nbsp\; Kauffman Construction\, Inc.&nbsp\;&nbsp\;&nbsp\;&nbsp\;&nbsp\;&nbsp\;&nbsp\; </span><br />\n<span style="font-size:8.0pt\;">602&nbsp\;&nbsp\;&nbsp\;&nbsp\;&nbsp\;&nbsp\;&nbsp\;&nbsp\;&nbsp\;&nbsp\;&nbsp\;&nbsp\;&nbsp\;&nbsp\; Mary Kay Cosmetics&nbsp\; </span><br />\n<span style="font-size:8.0pt\;">603&nbsp\;&nbsp\;&nbsp\;&nbsp\;&nbsp\;&nbsp\;&nbsp\;&nbsp\;&nbsp\;&nbsp\;&nbsp\;&nbsp\;&nbsp\;&nbsp\; Seal Tech Insulation&nbsp\; </span><br />\n<span style="font-size:8.0pt\;">604&nbsp\;&nbsp\;&nbsp\;&nbsp\;&nbsp\;&nbsp\;&nbsp\;&nbsp\;&nbsp\;&nbsp\;&nbsp\;&nbsp\;&nbsp\;&nbsp\; Goodwill West Michigan&nbsp\;&nbsp\;&nbsp\;&nbsp\;&nbsp\;&nbsp\;&nbsp\;&nbsp\;&nbsp\;&nbsp\;&nbsp\;&nbsp\;&nbsp\;&nbsp\; </span><br />\n<span style="font-size:8.0pt\;">605&nbsp\;&nbsp\;&nbsp\;&nbsp\;&nbsp\;&nbsp\;&nbsp\;&nbsp\;&nbsp\;&nbsp\;&nbsp\;&nbsp\;&nbsp\;&nbsp\; Best Home Title Agency\, LLC&nbsp\;&nbsp\;&nbsp\;&nbsp\;&nbsp\; </span><br />\n<span style="font-size:8.0pt\;">606&nbsp\;&nbsp\;&nbsp\;&nbsp\;&nbsp\;&nbsp\;&nbsp\;&nbsp\;&nbsp\;&nbsp\;&nbsp\;&nbsp\;&nbsp\;&nbsp\; RE/MAX River Valley </span><br />\n<span style="font-size:8.0pt\;">607&nbsp\;&nbsp\;&nbsp\;&nbsp\;&nbsp\;&nbsp\;&nbsp\;&nbsp\;&nbsp\;&nbsp\;&nbsp\;&nbsp\;&nbsp\;&nbsp\; RE/MAX River Valley </span><br />\n<span style="font-size:8.0pt\;">608&nbsp\;&nbsp\;&nbsp\;&nbsp\;&nbsp\;&nbsp\;&nbsp\;&nbsp\;&nbsp\;&nbsp\;&nbsp\;&nbsp\;&nbsp\;&nbsp\; Rent Smart&nbsp\;&nbsp\;&nbsp\;&nbsp\;&nbsp\;&nbsp\;&nbsp\;&nbsp\;&nbsp\;&nbsp\;&nbsp\;&nbsp\;&nbsp\;&nbsp\;&nbsp\;&nbsp\;&nbsp\;&nbsp\;&nbsp\;&nbsp\;&nbsp\; </span><br />\n<span style="font-size:8.0pt\;">801&nbsp\;&nbsp\;&nbsp\;&nbsp\;&nbsp\;&nbsp\;&nbsp\;&nbsp\;&nbsp\;&nbsp\;&nbsp\;&nbsp\;&nbsp\;&nbsp\; Leaffilter North of Michigan&nbsp\;&nbsp\;&nbsp\;&nbsp\;&nbsp\;&nbsp\;&nbsp\; </span><br />\n<span style="font-size:8.0pt\;">802&nbsp\;&nbsp\;&nbsp\;&nbsp\;&nbsp\;&nbsp\;&nbsp\;&nbsp\;&nbsp\;&nbsp\;&nbsp\;&nbsp\;&nbsp\;&nbsp\; Riverside Computer &amp\; Internet&nbsp\;&nbsp\;&nbsp\;&nbsp\;&nbsp\;&nbsp\;&nbsp\;&nbsp\;&nbsp\;&nbsp\;&nbsp\;&nbsp\;&nbsp\;&nbsp\;&nbsp\;&nbsp\;&nbsp\;&nbsp\;&nbsp\;&nbsp\;&nbsp\;&nbsp\; </span><br />\n<span style="font-size:8.0pt\;">803&nbsp\;&nbsp\;&nbsp\;&nbsp\;&nbsp\;&nbsp\;&nbsp\;&nbsp\;&nbsp\;&nbsp\;&nbsp\;&nbsp\;&nbsp\;&nbsp\; River City Trading&nbsp\;&nbsp\;&nbsp\;&nbsp\;&nbsp\;&nbsp\; </span><br />\n<span style="font-size:8.0pt\;">804&nbsp\;&nbsp\;&nbsp\;&nbsp\;&nbsp\;&nbsp\;&nbsp\;&nbsp\;&nbsp\;&nbsp\;&nbsp\;&nbsp\;&nbsp\;&nbsp\; Kaat&#39\;s Culligan&nbsp\;&nbsp\;&nbsp\;&nbsp\;&nbsp\;&nbsp\;&nbsp\;&nbsp\;&nbsp\;&nbsp\;&nbsp\;&nbsp\;&nbsp\;&nbsp\; </span><br />\n<span style="font-size:8.0pt\;">805&nbsp\;&nbsp\;&nbsp\;&nbsp\;&nbsp\;&nbsp\;&nbsp\;&nbsp\;&nbsp\;&nbsp\;&nbsp\;&nbsp\;&nbsp\;&nbsp\; Bath Fitter&nbsp\;&nbsp\;&nbsp\;&nbsp\;&nbsp\;&nbsp\;&nbsp\;&nbsp\;&nbsp\;&nbsp\;&nbsp\;&nbsp\;&nbsp\;&nbsp\;&nbsp\;&nbsp\;&nbsp\;&nbsp\;&nbsp\;&nbsp\;&nbsp\;&nbsp\; </span><br />\n<span style="font-size:8.0pt\;">806&nbsp\;&nbsp\;&nbsp\;&nbsp\;&nbsp\;&nbsp\;&nbsp\;&nbsp\;&nbsp\;&nbsp\;&nbsp\;&nbsp\;&nbsp\;&nbsp\; Tire Wholesales Plus &nbsp\;&nbsp\;&nbsp\;&nbsp\;&nbsp\;&nbsp\;&nbsp\;&nbsp\;&nbsp\;&nbsp\;&nbsp\;&nbsp\;&nbsp\;&nbsp\;&nbsp\;&nbsp\;&nbsp\;&nbsp\;&nbsp\;&nbsp\;&nbsp\;&nbsp\; </span><br />\n<span style="font-size:8.0pt\;">807&nbsp\;&nbsp\;&nbsp\;&nbsp\;&nbsp\;&nbsp\;&nbsp\;&nbsp\;&nbsp\;&nbsp\;&nbsp\;&nbsp\;&nbsp\;&nbsp\; Patriot Realty&nbsp\;&nbsp\;&nbsp\;&nbsp\;&nbsp\;&nbsp\;&nbsp\;&nbsp\;&nbsp\;&nbsp\;&nbsp\;&nbsp\;&nbsp\;&nbsp\;&nbsp\; </span><br />\n<span style="font-size:8.0pt\;">808&nbsp\;&nbsp\;&nbsp\;&nbsp\;&nbsp\;&nbsp\;&nbsp\;&nbsp\;&nbsp\;&nbsp\;&nbsp\;&nbsp\;&nbsp\;&nbsp\; Buursma Distributing</span><br />\n<span style="font-size:8.0pt\;">Outdoors &nbsp\; &nbsp\; &nbsp\;Jerry&#39\;s Towing&nbsp\;&nbsp\;&nbsp\;&nbsp\;&nbsp\;&nbsp\;&nbsp\;&nbsp\;&nbsp\;&nbsp\;&nbsp\;&nbsp\;&nbsp\;&nbsp\;&nbsp\; </span><br />\n<span style="font-size:8.0pt\;">Outdoors &nbsp\; &nbsp\; &nbsp\;Newaygo Patio &amp\; Deck&nbsp\;&nbsp\;&nbsp\;&nbsp\;&nbsp\;&nbsp\;&nbsp\;&nbsp\;&nbsp\;&nbsp\;&nbsp\;&nbsp\;&nbsp\;&nbsp\;&nbsp\;&nbsp\;&nbsp\;&nbsp\; </span><br />\n<span style="font-size:8.0pt\;">Outdoors &nbsp\; &nbsp\; &nbsp\;Rock-N-Fire Designs&nbsp\;&nbsp\; </span><br />\n<span style="font-size:8.0pt\;">Outdoors &nbsp\; &nbsp\; &nbsp\;Platz Electric&nbsp\;&nbsp\;&nbsp\;&nbsp\;&nbsp\;&nbsp\;&nbsp\;&nbsp\;&nbsp\;&nbsp\;&nbsp\;&nbsp\;&nbsp\;&nbsp\;&nbsp\;&nbsp\;&nbsp\; </span><br />\n<span style="font-size:8.0pt\;">Outdoors &nbsp\; &nbsp\; &nbsp\;Kerkstra Services&nbsp\;&nbsp\;&nbsp\;&nbsp\;&nbsp\;&nbsp\;&nbsp\;&nbsp\; </span><br />\n<span style="font-size:8.0pt\;">Outdoors &nbsp\; &nbsp\; &nbsp\;H2Oasis &nbsp\; &nbsp\; &nbsp\; &nbsp\; &nbsp\; &nbsp\; &nbsp\; &nbsp\; &nbsp\; &nbsp\; &nbsp\; &nbsp\; &nbsp\; &nbsp\; &nbsp\;</span>
LOCATION:Newaygo Middle School 850 76 th St Newaygo\, MI 49337
UID:e.1709.14
SEQUENCE:3
DTSTAMP:20260421T055906Z
URL:https://www.rivercountrychamber.com/events/details/home-garden-show-sponsored-by-kerkstra-services-mellema-nursery-04-13-2013-14
END:VEVENT

END:VCALENDAR
