BEGIN:VCALENDAR
VERSION:2.0
PRODID:-//ChamberMaster//Event Calendar 2.0//EN
METHOD:PUBLISH
X-PUBLISHED-TTL:P3D
REFRESH-INTERVAL:P3D
CALSCALE:GREGORIAN
BEGIN:VEVENT
DTSTART:20131213T223000Z
DTEND:20131214T233000Z
X-MICROSOFT-CDO-ALLDAYEVENT:FALSE
SUMMARY:Horse-Drawn Light Tours @ Camp Newaygo
DESCRIPTION:Attendees will experience an old fashioned Christmas at Lang Lodge with a buffet of hearty homemade soups\, salad\, and homemade bread. You?ll then bundle up for a horse-drawn wagon ride around Emerald Lake for the starry trek around the snow-covered\, tranquil shore. Upon return\, guests can warm up by the fire with hot cocoa\, hot mulled cider\, and dessert. Three seatings are available on Friday the 13th at: 5:30\, 5:45\, and 6:30 PM and four on Saturday the 14th at 4:30\, 4:45\, 5:30\, and 6:30 PM. Space is limited to 10 per seating\, so reserve your spots early. The Cost is $25 per adult\, $16 per child ages 9-12\, and only $12 for kids aged 8 and under. They?ll even have PB&J available for the little ones. Please RSVP by calling Camp at 652-1184 or by sending in a completed registration form available at Camp Newaygo\, at the TrueNorth Service Center\, or on-line at www.campnewaygo.org.
X-ALT-DESC;FMTTYPE=text/html:Attendees will experience an old fashioned Christmas at Lang Lodge with a buffet of hearty homemade soups\, salad\, and homemade bread. You?ll then bundle up for a horse-drawn wagon ride around Emerald Lake for the starry trek around the snow-covered\, tranquil shore. Upon return\, guests can warm up by the fire with hot cocoa\, hot mulled cider\, and dessert. Three seatings are available on Friday the 13th at: 5:30\, 5:45\, and 6:30 PM and four on Saturday the 14th at 4:30\, 4:45\, 5:30\, and 6:30 PM. Space is limited to 10 per seating\, so reserve your spots early. The Cost is $25 per adult\, $16 per child ages 9-12\, and only $12 for kids aged 8 and under. They?ll even have PB&amp\;J available for the little ones. Please RSVP by calling Camp at 652-1184 or by sending in a completed registration form available at Camp Newaygo\, at the TrueNorth Service Center\, or on-line at www.campnewaygo.org. 
LOCATION:Camp Newaygo. 5333 Centerline Rd.\, Newaygo\, MI 49337
UID:e.1709.532
SEQUENCE:3
DTSTAMP:20260420T194022Z
URL:https://www.rivercountrychamber.com/events/details/horse-drawn-light-tours-camp-newaygo-12-13-2013-532
END:VEVENT

END:VCALENDAR
