BEGIN:VCALENDAR
VERSION:2.0
PRODID:-//ChamberMaster//Event Calendar 2.0//EN
METHOD:PUBLISH
X-PUBLISHED-TTL:P3D
REFRESH-INTERVAL:P3D
CALSCALE:GREGORIAN
BEGIN:VEVENT
DTSTART;VALUE=DATE:20140208
DTEND;VALUE=DATE:20140209
TRANSP:TRANSPARENT
X-MICROSOFT-CDO-ALLDAYEVENT:TRUE
SUMMARY:Horseshoe Tournament at Jimmy's Roadhouse
DESCRIPTION:Horseshoe Tournament $5 Per Person $10 a Team Double Elimination. If you don't have a partner we will Pair you up with one.
X-ALT-DESC;FMTTYPE=text/html:Horseshoe Tournament $5 Per Person $10 a Team Double Elimination. If you don&#39\;t have a partner we will Pair you up with one.&nbsp\;
LOCATION:Jimmy's Roadhouse 8574 Mason Drive Newaygo MI
UID:e.1709.568
SEQUENCE:3
DTSTAMP:20260420T165506Z
URL:https://www.rivercountrychamber.com/events/details/horseshoe-tournament-at-jimmy-s-roadhouse-02-08-2014-568
END:VEVENT

END:VCALENDAR
