BEGIN:VCALENDAR
VERSION:2.0
PRODID:-//ChamberMaster//Event Calendar 2.0//EN
METHOD:PUBLISH
X-PUBLISHED-TTL:P3D
REFRESH-INTERVAL:P3D
CALSCALE:GREGORIAN
BEGIN:VEVENT
DTSTART:20140207T220000Z
DTEND:20140208T020000Z
X-MICROSOFT-CDO-ALLDAYEVENT:FALSE
SUMMARY:Ice Fishing Seminar
DESCRIPTION:Free Ice Fishing Seminar Ice Fishing Fundamentals 5:00-7:00 pm   Free of charge and open to all. NAIFC Pro Staff will explain and demonstrate the basic skills needed and techniques used in ice fishing. Designed for the beginners and intermediate fisherman\, Ice Fishing Fundamentals will provide basic skills used by every fisherman.            \n\n\n\nTopics to include but not limited to:        \n\nLearn: Knot Tying                                                                        \n\nBait: how to put on a hook... how to keep alive                                                                        \n\nPlastics: How and when to use.                                                                        \n\nJigs: Style\, size and use.                                                                      \n\nHow to: Sharpen a hook.  \n\n\n\nIce Fishing Fundamentals 5:00-7:00 pm  \n\nHow to: Sharpen a hook.                                                                        \n\nHow to: Filet a fish.                                                                         \n\nCooking/frying: breading basics.                                                                        \n\nStrike detection: Spring bobbers\, slip bobbers.  \n\n\n\nSeminar Speakers 7:00-8:30 pm Social hour 6:00-7:00 pm 4-6 NAIFC Pro-staff will each speak for 15-20 minutes covering one techniques or piece of equipment in-depth. This portion of the NAIFC Friday Night Seminar program is geared toward educating fishermen to the world of Tournament Ice Fishing. Learn how to use the best products and cutting edge techniques in the ice industry. The seminar is free of charge and open to the public. The goal is to put attendees on the fast track to becoming highly skilled anglers\, eventually becoming teachers to their friends and fishers in the local community.   Round table discussions with NAIFC Pro Staff after the seminar 8:30-9:00pm After the speakers are done those attending the seminar are invited to get up close and personal\, talking to NAIFC Pro Staff one-on-one about how they go about catching fish.
X-ALT-DESC;FMTTYPE=text/html:Free Ice Fishing Seminar&nbsp\;Ice Fishing Fundamentals 5:00-7:00 pm &nbsp\; Free of charge and open to all. NAIFC Pro Staff will explain and demonstrate the basic skills needed and techniques used in ice fishing. Designed for the beginners and intermediate fisherman\, Ice Fishing Fundamentals will provide basic skills used by every fisherman. &nbsp\; &nbsp\; &nbsp\; &nbsp\; &nbsp\; &nbsp\;<br />\n<br />\nTopics to include but not limited to: &nbsp\; &nbsp\; &nbsp\; &nbsp\;<br />\nLearn: Knot Tying &nbsp\; &nbsp\; &nbsp\; &nbsp\; &nbsp\; &nbsp\; &nbsp\; &nbsp\; &nbsp\; &nbsp\; &nbsp\; &nbsp\; &nbsp\; &nbsp\; &nbsp\; &nbsp\; &nbsp\; &nbsp\; &nbsp\; &nbsp\; &nbsp\; &nbsp\; &nbsp\; &nbsp\; &nbsp\; &nbsp\; &nbsp\; &nbsp\; &nbsp\; &nbsp\; &nbsp\; &nbsp\; &nbsp\; &nbsp\; &nbsp\; &nbsp\;<br />\nBait: how to put on a hook... how to keep alive &nbsp\; &nbsp\; &nbsp\; &nbsp\; &nbsp\; &nbsp\; &nbsp\; &nbsp\; &nbsp\; &nbsp\; &nbsp\; &nbsp\; &nbsp\; &nbsp\; &nbsp\; &nbsp\; &nbsp\; &nbsp\; &nbsp\; &nbsp\; &nbsp\; &nbsp\; &nbsp\; &nbsp\; &nbsp\; &nbsp\; &nbsp\; &nbsp\; &nbsp\; &nbsp\; &nbsp\; &nbsp\; &nbsp\; &nbsp\; &nbsp\; &nbsp\;<br />\nPlastics: How and when to use. &nbsp\; &nbsp\; &nbsp\; &nbsp\; &nbsp\; &nbsp\; &nbsp\; &nbsp\; &nbsp\; &nbsp\; &nbsp\; &nbsp\; &nbsp\; &nbsp\; &nbsp\; &nbsp\; &nbsp\; &nbsp\; &nbsp\; &nbsp\; &nbsp\; &nbsp\; &nbsp\; &nbsp\; &nbsp\; &nbsp\; &nbsp\; &nbsp\; &nbsp\; &nbsp\; &nbsp\; &nbsp\; &nbsp\; &nbsp\; &nbsp\; &nbsp\;<br />\nJigs: Style\, size and use. &nbsp\; &nbsp\; &nbsp\; &nbsp\; &nbsp\; &nbsp\; &nbsp\; &nbsp\; &nbsp\; &nbsp\; &nbsp\; &nbsp\; &nbsp\; &nbsp\; &nbsp\; &nbsp\; &nbsp\; &nbsp\; &nbsp\; &nbsp\; &nbsp\; &nbsp\; &nbsp\; &nbsp\; &nbsp\; &nbsp\; &nbsp\; &nbsp\; &nbsp\; &nbsp\; &nbsp\; &nbsp\; &nbsp\; &nbsp\; &nbsp\;<br />\nHow to: Sharpen a hook. &nbsp\;<br />\n<br />\nIce Fishing Fundamentals 5:00-7:00 pm &nbsp\;<br />\nHow to: Sharpen a hook. &nbsp\; &nbsp\; &nbsp\; &nbsp\; &nbsp\; &nbsp\; &nbsp\; &nbsp\; &nbsp\; &nbsp\; &nbsp\; &nbsp\; &nbsp\; &nbsp\; &nbsp\; &nbsp\; &nbsp\; &nbsp\; &nbsp\; &nbsp\; &nbsp\; &nbsp\; &nbsp\; &nbsp\; &nbsp\; &nbsp\; &nbsp\; &nbsp\; &nbsp\; &nbsp\; &nbsp\; &nbsp\; &nbsp\; &nbsp\; &nbsp\; &nbsp\;<br />\nHow to: Filet a fish.&nbsp\; &nbsp\; &nbsp\; &nbsp\; &nbsp\; &nbsp\; &nbsp\; &nbsp\; &nbsp\; &nbsp\; &nbsp\; &nbsp\; &nbsp\; &nbsp\; &nbsp\; &nbsp\; &nbsp\; &nbsp\; &nbsp\; &nbsp\; &nbsp\; &nbsp\; &nbsp\; &nbsp\; &nbsp\; &nbsp\; &nbsp\; &nbsp\; &nbsp\; &nbsp\; &nbsp\; &nbsp\; &nbsp\; &nbsp\; &nbsp\; &nbsp\; &nbsp\;<br />\nCooking/frying: breading basics. &nbsp\; &nbsp\; &nbsp\; &nbsp\; &nbsp\; &nbsp\; &nbsp\; &nbsp\; &nbsp\; &nbsp\; &nbsp\; &nbsp\; &nbsp\; &nbsp\; &nbsp\; &nbsp\; &nbsp\; &nbsp\; &nbsp\; &nbsp\; &nbsp\; &nbsp\; &nbsp\; &nbsp\; &nbsp\; &nbsp\; &nbsp\; &nbsp\; &nbsp\; &nbsp\; &nbsp\; &nbsp\; &nbsp\; &nbsp\; &nbsp\; &nbsp\;<br />\nStrike detection: Spring bobbers\, slip bobbers. &nbsp\;<br />\n<br />\nSeminar Speakers 7:00-8:30 pm Social hour 6:00-7:00 pm 4-6 NAIFC Pro-staff will each speak for 15-20 minutes covering one techniques or piece of equipment in-depth. This portion of the NAIFC Friday Night Seminar program is geared toward educating fishermen to the world of Tournament Ice Fishing. Learn how to use the best products and cutting edge techniques in the ice industry. The seminar is free of charge and open to the public. The goal is to put attendees on the fast track to becoming highly skilled anglers\, eventually becoming teachers to their friends and fishers in the local community. &nbsp\; Round table discussions with NAIFC Pro Staff after the seminar 8:30-9:00pm After the speakers are done those attending the seminar are invited to get up close and personal\, talking to NAIFC Pro Staff one-on-one about how they go about catching fish. &nbsp\; &nbsp\; &nbsp\; &nbsp\; &nbsp\; &nbsp\; &nbsp\; &nbsp\; &nbsp\; &nbsp\; &nbsp\; &nbsp\; &nbsp\; &nbsp\; &nbsp\; &nbsp\; &nbsp\; &nbsp\; &nbsp\; &nbsp\; &nbsp\; &nbsp\; &nbsp\; &nbsp\; &nbsp\; &nbsp\; &nbsp\; &nbsp\; &nbsp\; &nbsp\; &nbsp\; &nbsp\; &nbsp\; &nbsp\; &nbsp\; &nbsp\;&nbsp\; &nbsp\; &nbsp\; &nbsp\; &nbsp\; &nbsp\; &nbsp\; &nbsp\; &nbsp\; &nbsp\; &nbsp\; &nbsp\; &nbsp\; &nbsp\; &nbsp\; &nbsp\; &nbsp\; &nbsp\; &nbsp\; &nbsp\; &nbsp\; &nbsp\; &nbsp\; &nbsp\; &nbsp\; &nbsp\; &nbsp\; &nbsp\; &nbsp\; &nbsp\; &nbsp\; &nbsp\; &nbsp\; &nbsp\; &nbsp\; &nbsp\;&nbsp\; &nbsp\; 
LOCATION:The Driftwood Bar and Grill 7456 S. Croton Hardy Drive Newaygo\, Michigan 49337
UID:e.1709.567
SEQUENCE:3
DTSTAMP:20260420T165232Z
URL:https://www.rivercountrychamber.com/events/details/ice-fishing-seminar-02-07-2014-567
END:VEVENT

END:VCALENDAR
