BEGIN:VCALENDAR
VERSION:2.0
PRODID:-//ChamberMaster//Event Calendar 2.0//EN
METHOD:PUBLISH
X-PUBLISHED-TTL:P3D
REFRESH-INTERVAL:P3D
CALSCALE:GREGORIAN
BEGIN:VEVENT
DTSTART:20210329T223000Z
DTEND:20210330T003000Z
X-MICROSOFT-CDO-ALLDAYEVENT:FALSE
SUMMARY:Intentional Parenting Class
DESCRIPTION:A 5-week class that helps equip parents to be more intentional in raising their children.  Based on the best selling book from Doug and Kathy Fields.
X-ALT-DESC;FMTTYPE=text/html:A 5-week class that helps equip parents to be more intentional in raising their children. &nbsp\;Based on the best selling book from Doug and Kathy Fields.
LOCATION:302 E 68th St Newaygo\, MI 49337
UID:e.1709.37696
SEQUENCE:3
DTSTAMP:20260426T001707Z
URL:https://www.rivercountrychamber.com/events/details/intentional-parenting-class-03-29-2021-37696
END:VEVENT

END:VCALENDAR
