BEGIN:VCALENDAR
VERSION:2.0
PRODID:-//ChamberMaster//Event Calendar 2.0//EN
METHOD:PUBLISH
X-PUBLISHED-TTL:P3D
REFRESH-INTERVAL:P3D
CALSCALE:GREGORIAN
BEGIN:VEVENT
DTSTART:20140125T230000Z
DTEND:20140126T023000Z
X-MICROSOFT-CDO-ALLDAYEVENT:FALSE
SUMMARY:"Jazz by Candlelight" Series featuring Jazz guitarist Greg Miller
DESCRIPTION:West Michgan guitarist Greg Miller starts the 2014 Jazz by Candlelight Winter Jazz Series with an extraordinary collection of jazz and contemporary music spanning several decades. Special dinner selections will be offered this evening\, along with River Stop Caf 's signature menu.  No reservations are needed for the start of the series!  Take a berak from the Polar Vortex/ MichiganWinter Blues and treat yourself and a friend to some cozy music\, festive cocktails\, and Northern Hospitality!
X-ALT-DESC;FMTTYPE=text/html:<p style="margin: 0in 0in 10pt\;">\n	<font color="#000000" face="Calibri" size="3">West Michgan guitarist Greg Miller starts the 2014 Jazz by Candlelight Winter Jazz Series with an extraordinary collection of jazz and contemporary music spanning several decades. Special dinner selections will be offered this evening\, along with River Stop Caf&eacute\;&#39\;s signature menu.<span style="mso-spacerun: yes\;">&nbsp\; </span>No reservations are needed for the start of the series!</font>&nbsp\; Take a berak from the Polar Vortex/ MichiganWinter Blues and treat yourself and a friend to some cozy music\, festive cocktails\, and Northern Hospitality!</p>\n
LOCATION:River Stop Caf \, downtown Newaygo
UID:e.1709.566
SEQUENCE:3
DTSTAMP:20260420T181152Z
URL:https://www.rivercountrychamber.com/events/details/jazz-by-candlelight-series-featuring-jazz-guitarist-greg-miller-01-25-2014-566
END:VEVENT

END:VCALENDAR
