BEGIN:VCALENDAR
VERSION:2.0
PRODID:-//ChamberMaster//Event Calendar 2.0//EN
METHOD:PUBLISH
X-PUBLISHED-TTL:P3D
REFRESH-INTERVAL:P3D
CALSCALE:GREGORIAN
BEGIN:VEVENT
DTSTART:20131208T000000Z
DTEND:20131208T013000Z
X-MICROSOFT-CDO-ALLDAYEVENT:FALSE
SUMMARY:Joyous Notes of Christmas hosted by White Cloud Stage Door Players
DESCRIPTION:The White Cloud Stage Door Players is proud to host the Joyous Notes of Christmas\; a program of vocal/instrumental solos with participants from the age of 8 - 18.  Homemade Christmas goodies will be served by our volunteers.\n\n\n\nTickets are available at the door\n\n\n\nStudents $3.00\; Adults $5.00 and Family $12.00
X-ALT-DESC;FMTTYPE=text/html:<br />\nThe White Cloud Stage Door Players is proud to host the Joyous Notes of Christmas\; a program of vocal/instrumental solos with participants from the age of 8 - 18. &nbsp\;Homemade Christmas goodies will be served by our volunteers.<br />\n<br />\nTickets are available at the door<br />\n<br />\nStudents $3.00\; Adults $5.00 and Family $12.00&nbsp\;
LOCATION:The Stage Door Theatre 1147 Wilcox White Cloud\, MI 49349 231-689-5437
UID:e.1709.482
SEQUENCE:3
DTSTAMP:20260420T194345Z
URL:https://www.rivercountrychamber.com/events/details/joyous-notes-of-christmas-hosted-by-white-cloud-stage-door-players-12-07-2013-482
END:VEVENT

END:VCALENDAR
