BEGIN:VCALENDAR
VERSION:2.0
PRODID:-//ChamberMaster//Event Calendar 2.0//EN
METHOD:PUBLISH
X-PUBLISHED-TTL:P3D
REFRESH-INTERVAL:P3D
CALSCALE:GREGORIAN
BEGIN:VEVENT
DTSTART:20210607T140000Z
DTEND:20210612T163000Z
X-MICROSOFT-CDO-ALLDAYEVENT:FALSE
SUMMARY:June Adult Drop-In Craft @ Newaygo Library
DESCRIPTION:Adults! Drop in to the Newaygo Library to make your very own Pansy Votive!\n\nAll supplies will will be available upstairs in the Local History Room during Library hours.\n\nQUANTITIES ARE LIMITED.\n\nMasks are REQUIRED as well as Social Distancing!\n\nAdults and Teens ONLY\n\n* This is a Drop-In craft. Supplies are not available to make this at home.
X-ALT-DESC;FMTTYPE=text/html:<p><strong>Adults! Drop in to the Newaygo Library to make your very own&nbsp\;Pansy Votive!</strong></p>\n\n<p><strong>All supplies will will be available upstairs in the Local History Room during Library hours.</strong></p>\n\n<p><span style="color:#006400"><strong>QUANTITIES ARE LIMITED.<br />\nMasks are REQUIRED as well as Social Distancing!<br />\nAdults and Teens ONLY</strong></span></p>\n\n<p><strong>* This is a Drop-In craft. Supplies are not available to make this at home.</strong></p>\n
LOCATION:Newaygo Area District Library - Local History Room
UID:e.1709.37761
SEQUENCE:3
DTSTAMP:20260423T223623Z
URL:https://www.rivercountrychamber.com/events/details/june-adult-drop-in-craft-newaygo-library-37761
END:VEVENT

END:VCALENDAR
