BEGIN:VCALENDAR
VERSION:2.0
PRODID:-//ChamberMaster//Event Calendar 2.0//EN
METHOD:PUBLISH
X-PUBLISHED-TTL:P3D
REFRESH-INTERVAL:P3D
CALSCALE:GREGORIAN
BEGIN:VEVENT
DTSTART:20211014T193000Z
DTEND:20211014T210000Z
X-MICROSOFT-CDO-ALLDAYEVENT:FALSE
SUMMARY:Junk Journaling
DESCRIPTION:Ages 10 and up welcome! Beginning kit provided. Use up what you have and supplement with found\, recycled\, repurposed\, and thrifted items. In the Community Room.
X-ALT-DESC;FMTTYPE=text/html:Ages 10 and up welcome! Beginning kit provided. Use up what you have and supplement with found\, recycled\, repurposed\, and thrifted items. In the Community Room.
LOCATION:Fremont Area District Library 104 E. Main Fremont\, MI 49412
UID:e.1709.38569
SEQUENCE:3
DTSTAMP:20260425T160451Z
URL:https://www.rivercountrychamber.com/events/details/junk-journaling-38569
END:VEVENT

END:VCALENDAR
