BEGIN:VCALENDAR
VERSION:2.0
PRODID:-//ChamberMaster//Event Calendar 2.0//EN
METHOD:PUBLISH
X-PUBLISHED-TTL:P3D
REFRESH-INTERVAL:P3D
CALSCALE:GREGORIAN
BEGIN:VEVENT
DTSTART:20130803T160000Z
DTEND:20130803T170000Z
X-MICROSOFT-CDO-ALLDAYEVENT:FALSE
SUMMARY:Kids Activity: Fun with Frogs
DESCRIPTION:Make a new friend to come with you & join in the fun with froggy games!\n\n	Please meet Ranger Leeanna near the Henning Park County Park Registration Office.\n\n	* Children under 6 must be accompanied by an adult\; adults with older children are equally invited.\n\n	\n\n	www.facebook.com/NCParks
X-ALT-DESC;FMTTYPE=text/html:<p>\n	<big><span style="font-family: comic sans ms"><span style="font-size: 16px"><span style="color: #008000">Make a new friend to come with you &amp\; join in the fun with froggy games!<br />\n	Please meet Ranger Leeanna near the Henning Park County Park Registration Office.</span></span></span></big><br />\n	<span style="font-size: 12px"><span style="font-family: comic sans ms"><span style="color: #008000">* Children under 6 must be accompanied by an adult\; adults with older children are equally invited.<br />\n	<br />\n	<span style="font-family: tahoma"><span style="font-size: 16px"><a href="http://www.facebook.com/NCParks">www.facebook.com/NCParks</a></span></span></span></span></span></p>\n
LOCATION:Ed H. Henning County Park 500 Croton Rd. Newaygo\, MI 49337
UID:e.1709.269
SEQUENCE:3
DTSTAMP:20260421T005227Z
URL:https://www.rivercountrychamber.com/events/details/kids-activity-fun-with-frogs-08-03-2013-269
END:VEVENT

END:VCALENDAR
