BEGIN:VCALENDAR
VERSION:2.0
PRODID:-//ChamberMaster//Event Calendar 2.0//EN
METHOD:PUBLISH
X-PUBLISHED-TTL:P3D
REFRESH-INTERVAL:P3D
CALSCALE:GREGORIAN
BEGIN:VEVENT
DTSTART:20130803T140000Z
DTEND:20130803T150000Z
X-MICROSOFT-CDO-ALLDAYEVENT:FALSE
SUMMARY:Kids Activity: The Days of Horses
DESCRIPTION:Make a new friend to come home with you!\n\nSee a real horse tack & go for a "trail" ride.\n\nPlease meet Ranger Leeanna near the Sandy Beach County Park registration office. \n\n*Children under 6 must be accompanied by an adult\; adults with older children are equally invited. \n\n\n\nwww.facebook.com/NCParks
X-ALT-DESC;FMTTYPE=text/html:<span style="color: #8b4513"><span style="font-size: 12px"><span style="font-family: comic sans ms"><big><span style="font-size: 16px">Make a new friend to come home with you!<br />\nSee a real horse tack &amp\; go for a &quot\;trail&quot\; ride.<br />\nPlease meet Ranger Leeanna near the Sandy Beach County Park registration office. </span></big><br />\n*Children under 6 must be accompanied by an adult\; adults with older children are equally invited. </span></span></span><br />\n<br />\n<big><span style="font-family: tahoma"><span style="font-size: 16px"><a href="http://www.facebook.com/NCParks">www.facebook.com/NCParks</a></span></span></big><br />\n
LOCATION:Sandy Beach County Park 6926 30th St. White Cloud\, MI 49349
UID:e.1709.268
SEQUENCE:3
DTSTAMP:20260421T005506Z
URL:https://www.rivercountrychamber.com/events/details/kids-activity-the-days-of-horses-08-03-2013-268
END:VEVENT

END:VCALENDAR
