BEGIN:VCALENDAR
VERSION:2.0
PRODID:-//ChamberMaster//Event Calendar 2.0//EN
METHOD:PUBLISH
X-PUBLISHED-TTL:P3D
REFRESH-INTERVAL:P3D
CALSCALE:GREGORIAN
BEGIN:VEVENT
DTSTART:20140219T223000Z
DTEND:20140220T020000Z
X-MICROSOFT-CDO-ALLDAYEVENT:FALSE
SUMMARY:Knife Skills at Gala Gourmet
DESCRIPTION:Wednesday\, February 19: Knife Skills. Another class back by popular demand   this is your chance to learn proper knife usage\, knife care and sharpening as well as how to mince\, dice\, chop\, chiffonade\, and julienne among other knife tips and tricks. Total hands-on class and each student will receive an 8" Rosewood handle Victorinox Chef's Knife (Retail Value: $49). Then after all the practice on cutting up veggies\, we will make an pork stir fry\, roasted potatoes with garlic aioli\, and Moroccan Couscous. Class begins at 5:30 PM.
X-ALT-DESC;FMTTYPE=text/html:<span style="color: rgb(51\, 51\, 51)\; font-family: 'lucida grande'\, tahoma\, verdana\, arial\, sans-serif\; font-size: 13px\; line-height: 18px\;">Wednesday\, February 19: Knife Skills. Another class back by popular demand &ndash\; this is your chance to learn proper knife usage\, knife care and sharpening as well as how to mince\, dice\, chop\, chiffonade\, and julienne among other knife tips and tricks. Total hands-on class and each student will receive an 8&rdquo\; Rosewood handle Victorinox Chef&rsquo\;s Knife (Retail Value: $49). Then after all the practice on cutting up veggies\, we will make an pork stir fry\, roasted potatoes with garlic aioli\, and Moroccan Couscous. Class begins at 5:30 PM.</span>
LOCATION:Gala Gourmet Kitchen Shoppe
UID:e.1709.586
SEQUENCE:3
DTSTAMP:20260420T181038Z
URL:https://www.rivercountrychamber.com/events/details/knife-skills-at-gala-gourmet-02-19-2014-586
END:VEVENT

END:VCALENDAR
