BEGIN:VCALENDAR
VERSION:2.0
PRODID:-//ChamberMaster//Event Calendar 2.0//EN
METHOD:PUBLISH
X-PUBLISHED-TTL:P3D
REFRESH-INTERVAL:P3D
CALSCALE:GREGORIAN
BEGIN:VEVENT
DTSTART:20131109T150000Z
DTEND:20131110T030000Z
X-MICROSOFT-CDO-ALLDAYEVENT:FALSE
SUMMARY:Krop for Kids
DESCRIPTION:Scrapbooking fundraising event to benefit Big Brothers Big Sisters of Newaygo County and Camp Newayg. Bring your own supplies and krop the day away. Lunch\, dinner\, snacks and drinks provided.
X-ALT-DESC;FMTTYPE=text/html:Scrapbooking fundraising event to benefit Big Brothers Big Sisters of Newaygo County and Camp Newayg. Bring your own supplies and krop the day away. Lunch\, dinner\, snacks and drinks provided. 
LOCATION:Camp Newaygo\, 5333 Centerline Rd\, Newaygo\, MI 49337
UID:e.1709.434
SEQUENCE:3
DTSTAMP:20260420T205629Z
URL:https://www.rivercountrychamber.com/events/details/krop-for-kids-11-09-2013-434
END:VEVENT

END:VCALENDAR
