BEGIN:VCALENDAR
VERSION:2.0
PRODID:-//ChamberMaster//Event Calendar 2.0//EN
METHOD:PUBLISH
X-PUBLISHED-TTL:P3D
REFRESH-INTERVAL:P3D
CALSCALE:GREGORIAN
BEGIN:VEVENT
DTSTART:20210904T140000Z
DTEND:20210904T180000Z
X-MICROSOFT-CDO-ALLDAYEVENT:FALSE
SUMMARY:Labor Day Weekend Book Sale
DESCRIPTION:The Friends of Newaygo Library Book Store will be open Saturday September 4th from 10am to 2pm.\n\n\n\nNew Stock!\n\n\n\nAll proceeds go toward funding future programs at the Newaygo Area District Library.\n\n\n\nWould you like a reminder for this event? Sign up for our events reminder program! "Remind" will send out a text and email about events going on at Newaygo Library. To sign up\, go to: remind.com/join/44kk72.
X-ALT-DESC;FMTTYPE=text/html:<span style="color:rgb(5\, 5\, 5)\; font-family:segoe ui historic\,segoe ui\,helvetica\,arial\,sans-serif\; font-size:15px">The Friends of Newaygo Library Book Store will be open Saturday September 4th from 10am to 2pm.<br />\n<br />\nNew Stock!<br />\n<br />\nAll proceeds go toward funding future programs at the Newaygo Area District Library.<br />\n<br />\nWould you like a reminder for this event? Sign up for our events reminder program! &quot\;Remind&quot\; will send out a text and email about events going on at Newaygo Library. To sign up\, go to:&nbsp\;</span><a class="oajrlxb2 g5ia77u1 qu0x051f esr5mh6w e9989ue4 r7d6kgcz rq0escxv nhd2j8a9 nc684nl6 p7hjln8o kvgmc6g5 cxmmr5t8 oygrvhab hcukyx3x jb3vyjys rz4wbd8a qt6c0cv9 a8nywdso i1ao9s8h esuyzwwr f1sip0of lzcic4wl py34i1dx gpro0wi8" href="http://remind.com/join/44kk72?fbclid=IwAR1yTl0h0PLqIDfGNf8xxgS5pF_N3yG6dYDWUR4-y3df5JWr5ruHip-9huE" rel="nofollow noopener" style="color: var(--blue-link)\; cursor: pointer\; text-decoration-line: none\; outline: none\; list-style: none\; border-width: 0px\; border-style: initial\; border-color: initial\; padding: 0px\; margin: 0px\; touch-action: manipulation\; display: inline\; -webkit-tap-highlight-color: transparent\; box-sizing: border-box\; font-family: &quot\;Segoe UI Historic&quot\;\, &quot\;Segoe UI&quot\;\, Helvetica\, Arial\, sans-serif\; font-size: 15px\;" tabindex="0" target="_blank">remind.com/join/44kk72</a><span style="color:rgb(5\, 5\, 5)\; font-family:segoe ui historic\,segoe ui\,helvetica\,arial\,sans-serif\; font-size:15px">.</span>
LOCATION:Newaygo Area District Library - Book Store
UID:e.1709.37859
SEQUENCE:3
DTSTAMP:20260425T172529Z
URL:https://www.rivercountrychamber.com/events/details/labor-day-weekend-book-sale-37859
END:VEVENT

END:VCALENDAR
