BEGIN:VCALENDAR
VERSION:2.0
PRODID:-//ChamberMaster//Event Calendar 2.0//EN
METHOD:PUBLISH
X-PUBLISHED-TTL:P3D
REFRESH-INTERVAL:P3D
CALSCALE:GREGORIAN
BEGIN:VEVENT
DTSTART;VALUE=DATE:20211120
DTEND;VALUE=DATE:20211121
TRANSP:TRANSPARENT
X-MICROSOFT-CDO-ALLDAYEVENT:TRUE
SUMMARY:Ladies Day at SHB Gifts & Decor
DESCRIPTION:Start your holiday shopping at SHB Gifts & Decor all day for great giveaways & discounts!  \n\n\n\nVisit our website https://shb-gifts-decor.business.site/
X-ALT-DESC;FMTTYPE=text/html:Start your holiday shopping at SHB Gifts &amp\; Decor all day for great giveaways &amp\; discounts!&nbsp\;&nbsp\;<br />\n<br />\nVisit our website&nbsp\;<a href="https://shb-gifts-decor.business.site/">https://shb-gifts-decor.business.site/</a>
LOCATION:11 West Main Street Fremont\, MI 49412
UID:e.1709.38628
SEQUENCE:3
DTSTAMP:20260424T141943Z
URL:https://www.rivercountrychamber.com/events/details/ladies-day-at-shb-gifts-decor-38628
END:VEVENT

END:VCALENDAR
