BEGIN:VCALENDAR
VERSION:2.0
PRODID:-//ChamberMaster//Event Calendar 2.0//EN
METHOD:PUBLISH
X-PUBLISHED-TTL:P3D
REFRESH-INTERVAL:P3D
CALSCALE:GREGORIAN
BEGIN:VEVENT
DTSTART:20131203T230000Z
DTEND:20131204T020000Z
X-MICROSOFT-CDO-ALLDAYEVENT:FALSE
SUMMARY:Ladies Night
DESCRIPTION:Get your girlfriends or sisters together to enjoy dinner by the fireplace in beautiful Land Lodge. Dinner will be a selection of heavy hors d'oeuvres and a chef's choice salad. Music will fill the air with the sounds of the holiday season. Host a table for your friends and decorate it with your own holiday flair (as a host you will receive one free ticket)\, or join us at one of our tables. Take away the stress of shopping for gifts to exchange\, bring in a scarf for our popular gift exchange and go home with something new to wear! Cost includes hors d'oeuvres dinner and desert\, tip and entertainment. Reserve your seat or table now!
X-ALT-DESC;FMTTYPE=text/html:Get your girlfriends or sisters together to enjoy dinner by the fireplace in beautiful Land Lodge. Dinner will be a selection of heavy hors d&#39\;oeuvres and a chef&#39\;s choice salad. Music will fill the air with the sounds of the holiday season. Host a table for your friends and decorate it with your own holiday flair (as a host you will receive one free ticket)\, or join us at one of our tables. Take away the stress of shopping for gifts to exchange\, bring in a scarf for our popular gift exchange and go home with something new to wear! Cost includes hors d&#39\;oeuvres dinner and desert\, tip and entertainment. Reserve your seat or table now!
LOCATION:Camp Newaygo 5333 Centerline Road Newaygo\, MI 49337
UID:e.1709.471
SEQUENCE:3
DTSTAMP:20260420T193830Z
URL:https://www.rivercountrychamber.com/events/details/ladies-night-12-03-2013-471
END:VEVENT

END:VCALENDAR
