BEGIN:VCALENDAR
VERSION:2.0
PRODID:-//ChamberMaster//Event Calendar 2.0//EN
METHOD:PUBLISH
X-PUBLISHED-TTL:P3D
REFRESH-INTERVAL:P3D
CALSCALE:GREGORIAN
BEGIN:VEVENT
DTSTART:20211210T230000Z
DTEND:20211211T010000Z
X-MICROSOFT-CDO-ALLDAYEVENT:FALSE
SUMMARY:Ladies' Night Out
DESCRIPTION:All the ladies come on down! Get out of the house and make some holiday wall hangings with Shawna from Life Expressions! Choose from 3 different styles. Cost is $25 and refreshments will be provided. Email info@katieandcompanystudio.com to sign up.
X-ALT-DESC;FMTTYPE=text/html:All the ladies come on down! Get out of the house and make some holiday wall hangings with Shawna from Life Expressions! Choose from 3 different styles. Cost is $25 and refreshments will be provided. Email info@katieandcompanystudio.com to sign up.
LOCATION:Katie & Company
UID:e.1709.38621
SEQUENCE:3
DTSTAMP:20260424T131141Z
URL:https://www.rivercountrychamber.com/events/details/ladies-night-out-38621
END:VEVENT

END:VCALENDAR
