BEGIN:VCALENDAR
VERSION:2.0
PRODID:-//ChamberMaster//Event Calendar 2.0//EN
METHOD:PUBLISH
X-PUBLISHED-TTL:P3D
REFRESH-INTERVAL:P3D
CALSCALE:GREGORIAN
BEGIN:VEVENT
DTSTART:20131203T230000Z
DTEND:20131204T030000Z
X-MICROSOFT-CDO-ALLDAYEVENT:FALSE
SUMMARY:Ladies Night Out @ Camp Newaygo
DESCRIPTION:Get your girlfriends\, sisters or cousins together for a Christmas Party at ?a lodge in the woods.? Enjoy heavy hors d?oeuvres\, a chef?s choice salad and rolls followed by a delicious dessert by the fireplace in beautiful Lang Lodge\, while music fills the air with the sounds of the holiday season. Host a table for your friends and decorate it with your own holiday flair and receive one free ticket\, or join one of the other tables and make some new friends. Bring a scarf for the very popular gift exchange and go home with something new to wear or to give as a gift! The cost of only $24 per person includes food\, gratuity\, and entertainment. Since this is a ladies only event ? it will feature all male waiters serving dinner. Please RSVP by calling Camp at 652-1184 or by sending in a completed registration form available at Camp Newaygo\, at the TrueNorth Service Center\, or on-line at www.campnewaygo.org.
X-ALT-DESC;FMTTYPE=text/html:Get your girlfriends\, sisters or cousins together for a Christmas Party at ?a lodge in the woods.? Enjoy heavy hors d?oeuvres\, a chef?s choice salad and rolls followed by a delicious dessert by the fireplace in beautiful Lang Lodge\, while music fills the air with the sounds of the holiday season. Host a table for your friends and decorate it with your own holiday flair and receive one free ticket\, or join one of the other tables and make some new friends. Bring a scarf for the very popular gift exchange and go home with something new to wear or to give as a gift! The cost of only $24 per person includes food\, gratuity\, and entertainment. Since this is a ladies only event ? it will feature all male waiters serving dinner. Please RSVP by calling Camp at 652-1184 or by sending in a completed registration form available at Camp Newaygo\, at the TrueNorth Service Center\, or on-line at www.campnewaygo.org. 
LOCATION:Camp Newaygo\, 5333 Centerline Rd.\, Newaygo\, MI 49337
UID:e.1709.530
SEQUENCE:3
DTSTAMP:20260420T205933Z
URL:https://www.rivercountrychamber.com/events/details/ladies-night-out-camp-newaygo-12-03-2013-530
END:VEVENT

END:VCALENDAR
