BEGIN:VCALENDAR
VERSION:2.0
PRODID:-//ChamberMaster//Event Calendar 2.0//EN
METHOD:PUBLISH
X-PUBLISHED-TTL:P3D
REFRESH-INTERVAL:P3D
CALSCALE:GREGORIAN
BEGIN:VEVENT
DTSTART:20131111T170000Z
DTEND:20131111T183000Z
X-MICROSOFT-CDO-ALLDAYEVENT:FALSE
SUMMARY:Landlord Luncheon
DESCRIPTION:This free lunch event offers N.C. housing providers / landlords an opportunity to learn about the issues related to individuals & families who may be homeless and/or low-income tenants. Landlords will be able to share their issues and concerns regarding at-risk populations and tenants. Informational services will also be provided.
X-ALT-DESC;FMTTYPE=text/html:This free lunch event offers N.C. housing providers / landlords an opportunity to learn about the issues related to individuals &amp\; families who may be homeless and/or low-income tenants. Landlords will be able to share their issues and concerns regarding at-risk populations and tenants. Informational services will also be provided. 
LOCATION:TrueNorth\, 6308 S. Warner Ave. Fremont Mi 49412
UID:e.1709.430
SEQUENCE:3
DTSTAMP:20260420T221523Z
URL:https://www.rivercountrychamber.com/events/details/landlord-luncheon-11-11-2013-430
END:VEVENT

END:VCALENDAR
