BEGIN:VCALENDAR
VERSION:2.0
PRODID:-//ChamberMaster//Event Calendar 2.0//EN
METHOD:PUBLISH
X-PUBLISHED-TTL:P3D
REFRESH-INTERVAL:P3D
CALSCALE:GREGORIAN
BEGIN:VEVENT
DTSTART:20140213T210000Z
DTEND:20140214T040000Z
X-MICROSOFT-CDO-ALLDAYEVENT:FALSE
SUMMARY:Latitudes & Steelheads NMG
DESCRIPTION:Annual Leinenkugel Fish Fry\n\nLeinenkugel Beer battered Fresh  Walleye\, Lake Perch and Blue Gill\n\n\n\nReservations highly recommended.
X-ALT-DESC;FMTTYPE=text/html:<font face="comic sans ms"><span style="font-size: 25.55555534362793px\;">Annual Leinenkugel&nbsp\;Fish Fry</span></font><br />\nLeinenkugel&nbsp\;Beer battered Fresh &nbsp\;Walleye\, Lake Perch and Blue Gill<br />\n<br />\nReservations highly recommended.<br />\n<br />\n&nbsp\;<br />\n<br />\n
LOCATION:Latitudes & Steelheads NMG 101 East Edgerton Street Howard City\, MI 49329
UID:e.1709.590
SEQUENCE:3
DTSTAMP:20260420T165301Z
URL:https://www.rivercountrychamber.com/events/details/latitudes-steelheads-nmg-02-13-2014-590
END:VEVENT

END:VCALENDAR
