BEGIN:VCALENDAR
VERSION:2.0
PRODID:-//ChamberMaster//Event Calendar 2.0//EN
METHOD:PUBLISH
X-PUBLISHED-TTL:P3D
REFRESH-INTERVAL:P3D
CALSCALE:GREGORIAN
BEGIN:VEVENT
DTSTART:20130627T130000Z
DTEND:20130628T010000Z
X-MICROSOFT-CDO-ALLDAYEVENT:FALSE
SUMMARY:Live Public Auction
DESCRIPTION:Live auction hosted by Country View Auctioneers bring in autos\, boats\, furniture\, antiques ect. No clothing or mattresses.
X-ALT-DESC;FMTTYPE=text/html:Live auction hosted by Country View Auctioneers bring in autos\, boats\, furniture\, antiques ect. No clothing or mattresses.
LOCATION:Jimmy's Roadhouse
UID:e.1709.55
SEQUENCE:3
DTSTAMP:20260421T031614Z
URL:https://www.rivercountrychamber.com/events/details/live-public-auction-06-27-2013-55
END:VEVENT

END:VCALENDAR
