BEGIN:VCALENDAR
VERSION:2.0
PRODID:-//ChamberMaster//Event Calendar 2.0//EN
METHOD:PUBLISH
X-PUBLISHED-TTL:P3D
REFRESH-INTERVAL:P3D
CALSCALE:GREGORIAN
BEGIN:VEVENT
DTSTART:20140712T230000Z
DTEND:20140713T023000Z
X-MICROSOFT-CDO-ALLDAYEVENT:FALSE
SUMMARY:Live Summer Music Series
DESCRIPTION:Kick off the Summer Music Series at the River Stop Cafe with Greg Miller - one of the finest solo guitarists in the Midwest.  Mr. Miller is often featured in the greater Grand Rapids scene\, and we are pleased to have him booked several times this summer.  Be ready to enjoy the thoughtful side of jazz\, standards\, and contemporary favorites just in time for the summer dinner hour!
X-ALT-DESC;FMTTYPE=text/html:Kick off the Summer Music Series at the River Stop Cafe with Greg Miller - one of the finest solo guitarists in the Midwest.&nbsp\; Mr. Miller is often featured in the greater Grand Rapids scene\, and we are pleased to have him booked several times this summer.&nbsp\; Be ready to enjoy the thoughtful side of jazz\, standards\, and&nbsp\;contemporary favorites just in time for the summer dinner hour!
LOCATION:River Stop Caf
UID:e.1709.927
SEQUENCE:3
DTSTAMP:20260420T103033Z
URL:https://www.rivercountrychamber.com/events/details/live-summer-music-series-07-12-2014-927
END:VEVENT

END:VCALENDAR
