BEGIN:VCALENDAR
VERSION:2.0
PRODID:-//ChamberMaster//Event Calendar 2.0//EN
METHOD:PUBLISH
X-PUBLISHED-TTL:P3D
REFRESH-INTERVAL:P3D
CALSCALE:GREGORIAN
BEGIN:VEVENT
DTSTART:20140719T230000Z
DTEND:20140720T023000Z
X-MICROSOFT-CDO-ALLDAYEVENT:FALSE
SUMMARY:Live Summer Music Series
DESCRIPTION:The Blue Trane Organ Trio is an old-school Chicago-style jazz organ trio with a deep streak of the blues running down through the middle. Enjoy the unmistakable  sound of the Mighty Hammond B3 played by a true master.
X-ALT-DESC;FMTTYPE=text/html:The Blue Trane Organ Trio is an old-school Chicago-style jazz organ trio with a deep streak of the blues running down through the middle. Enjoy the unmistakable&nbsp\; sound of the Mighty&nbsp\;Hammond B3 played by a true master.<br />\n&nbsp\;
LOCATION:River Stop Caf
UID:e.1709.928
SEQUENCE:3
DTSTAMP:20260420T104118Z
URL:https://www.rivercountrychamber.com/events/details/live-summer-music-series-07-19-2014-928
END:VEVENT

END:VCALENDAR
