BEGIN:VCALENDAR
VERSION:2.0
PRODID:-//ChamberMaster//Event Calendar 2.0//EN
METHOD:PUBLISH
X-PUBLISHED-TTL:P3D
REFRESH-INTERVAL:P3D
CALSCALE:GREGORIAN
BEGIN:VEVENT
DTSTART;VALUE=DATE:20130830
DTEND;VALUE=DATE:20130903
TRANSP:TRANSPARENT
X-MICROSOFT-CDO-ALLDAYEVENT:TRUE
SUMMARY:Logging Fest Celebration Sales Event
DESCRIPTION:*4 Day Celebration Sale!* This Week End SIDEWALK SALES plus 10% OFF any Ticket Price
X-ALT-DESC;FMTTYPE=text/html:*4 Day Celebration Sale!* This Week End SIDEWALK SALES plus 10% OFF any Ticket Price 
LOCATION:Downtown Newaygo 196 State Rd.
UID:e.1709.279
SEQUENCE:3
DTSTAMP:20260420T233524Z
URL:https://www.rivercountrychamber.com/events/details/logging-fest-celebration-sales-event-08-30-2013-279
END:VEVENT

END:VCALENDAR
