BEGIN:VCALENDAR
VERSION:2.0
PRODID:-//ChamberMaster//Event Calendar 2.0//EN
METHOD:PUBLISH
X-PUBLISHED-TTL:P3D
REFRESH-INTERVAL:P3D
CALSCALE:GREGORIAN
BEGIN:VEVENT
DTSTART:20230903T170000Z
DTEND:20230903T190000Z
X-MICROSOFT-CDO-ALLDAYEVENT:FALSE
SUMMARY:Logging Festival Parade 2023 Presented by Tiny's Tasty Treats
DESCRIPTION:Presenting our 2023 theme: "LUMBERJACKS ARE BACK!" \n\n\n\nLogging Festival Parade has returned! Join in on the lineup or be a part of the cheering crowd. \n\n \nParticipation is FREE! You may enter marching units\, antique vehicles\, farm tractors and any other creative entries. Organization name must be on your unit.\n\n \n\nHow do I enter to be in the lineup?\n\n Pick up an app at River Country Chamber - located at 1 State Rd at the STREAM building in Downtown Newaygo\n\n Printable Application here \n\n Register with the Green Register icon on the right side of this page\n\n\n\nHow do I get it to you?\n\n Scan & Email to: rporter@rivercountrychamber.com\n\n Mail to River Country Chamber at PO Box 181 Newaygo\, MI 49337.\n\n\n\nStill need help?\n\n Call us! 231-652-3068 \n\n\n\nWhere does the parade go?\n\n  Route Map\n\nStarts at the Industrial Park on Clay St to Barton to Quarterline then left on State Rd (M-37) with dispersal at State Rd & River St\n\n\n\nHow will we know where to go?\n\nOur amazing parade volunteers will be located at the entrance to the G-M Wood Products back parking lot with your parade position.\n\n\n\nWhat if my entry is not road legal?\n\nNo worries! We have a safe route for you to end at while others continue onto M-37\n\n\n\nCan we toss candy and/or informational flyers?\n\nAbsolutely! Just make sure you're registered to be a part of the parade. Please be mindful of the temperature when selecting items to pass out. (some candy melts!)\n\n\n\nAnything else going on?\n\nYesss! Check out this link for a full Logging Festival Schedule including food trucks\, Professional & Amateur Lumberjacks & Vendors!\n\n\n\nRestrooms?\n\nPlease use the multiple clean porta jons located in City Hall parking Lot as part of our event.\n\n\n\nWhat about the littles?\n\nWe've got you covered! Check out the Changing/Feeding Tent next to the stage in Brooks Park. You'll be able to have privacy if you little needs fed or changed. \n\n\n\nWhere do I find help or more information or help during event?\n\nCheck out River Country Chamber's booth next to the stage in Brooks Park. Our volunteers are ready and willing to help. Whether it be a band-aid\, water for the fur babies or directions. Our Reserve Officers will also be out and about\, too!
X-ALT-DESC;FMTTYPE=text/html:<span style="font-family:times new roman\;"><span style="font-size:18px\;"><strong>Presenting our 2023 theme: &quot\;LUMBERJACKS ARE BACK!&quot\;&nbsp\;</strong></span></span><br />\n<br />\n<strong><span style="font-size: 16px">Logging Festival Parade has returned!</span></strong><span style="font-size: 16px"> Join in on the lineup or be a part of the cheering crowd</span><strong><span style="font-size: 16px">.&nbsp\;</span></strong><br />\n&nbsp\;\n<div><span style="font-size: 16px">Participation is FREE!&nbsp\;</span><span style="font-family: Arial\, Helvetica\, sans-serif\; font-size: 16px\; background-color: rgba(255\, 255\, 255\, 0.94)\;">You may enter marching units\, antique vehicles\, farm tractors and any other creative entries. Organization name must be on your unit.</span><br />\n&nbsp\;</div>\n\n<div><span style="font-size:16px\;"><strong>How&nbsp\;do I enter to be in the lineup?</strong><br />\n&#9658\;Pick&nbsp\;up an app at River Country Chamber - located at 1 State Rd at the STREAM building in&nbsp\;Downtown Newaygo<br />\n&#9658\;<a href="https://chambermaster.blob.core.windows.net/userfiles/UserFiles/chambers/1709/File/Logging_Festival_/2023/2023LoggingFestParadeRegistration1.pdf">Printable&nbsp\;Application here&nbsp\;</a><br />\n&#9658\;Register with the Green Register icon on the right side of this page<br />\n<br />\n<strong>How do I get it to you?</strong></span></div>\n\n<div><span style="font-size:16px\;">&#9658\;Scan &amp\; Email to: rporter@rivercountrychamber.com<br />\n&#9658\;Mail to River Country Chamber at PO Box 181 Newaygo\, MI 49337.<br />\n<br />\n<strong>Still need help?</strong><br />\n&#9658\;Call us! 231-652-3068&nbsp\;<br />\n<br />\n<strong>Where does the parade go?</strong><br />\n&#9658\; <a href="https://chambermaster.blob.core.windows.net/userfiles/UserFiles/chambers/1709/File/Logging_Festival_/2023/LUMBERJACKPARADE.png">Route Map</a><br />\nStarts at the Industrial Park on Clay St to Barton to Quarterline then left on State Rd (M-37) with dispersal at State Rd &amp\; River St<br />\n<br />\n<strong>How will we know where to go?</strong></span><br />\n<span style="font-size:16px\;">Our amazing parade volunteers will be located at the entrance to the G-M Wood Products&nbsp\;back parking lot with your parade position.</span><br />\n<br />\n<span style="font-size:16px\;"><strong>What if my entry is not road legal?</strong><br />\nNo worries! We have a safe route for you to end at while others continue onto M-37<br />\n<br />\n<strong>Can we toss candy and/or informational flyers?</strong><br />\nAbsolutely! Just make sure you&#39\;re registered to be a part of the parade. Please be mindful of the temperature when selecting items to pass out. (some candy melts!)<br />\n<br />\n<strong>Anything else going on?</strong><br />\nYesss! Check out this link for a full <a href="https://www.rivercountrychamber.com/events/details/logging-festival-2023-39107">Logging Festival Schedule</a> including food trucks\, Professional &amp\; Amateur Lumberjacks &amp\; Vendors!<br />\n<br />\n<strong>Restrooms?</strong><br />\nPlease use the multiple clean porta jons located in City Hall parking Lot as part of our event.<br />\n<br />\n<strong>What about the littles?</strong><br />\nWe&#39\;ve got you covered! Check out the Changing/Feeding Tent next to the stage in Brooks Park. You&#39\;ll be able to have privacy if you little needs fed or changed.&nbsp\;<br />\n<br />\n<strong>Where do I find help or more information or help during event?</strong><br />\nCheck out River Country Chamber&#39\;s booth next to the stage in Brooks Park. Our volunteers are ready and willing to help. Whether it be a band-aid\, water for the fur babies or directions. Our Reserve Officers will also be out and about\, too!</span><br />\n&nbsp\;</div>\n
LOCATION:Route Map coming soon! Start: Industrial Park on Clay St End: at the intersection of State Rd & River St
UID:e.1709.40800
SEQUENCE:3
DTSTAMP:20260421T115744Z
URL:https://www.rivercountrychamber.com/events/details/logging-festival-parade-2023-presented-by-tiny-s-tasty-treats-40800
END:VEVENT

END:VCALENDAR
