BEGIN:VCALENDAR
VERSION:2.0
PRODID:-//ChamberMaster//Event Calendar 2.0//EN
METHOD:PUBLISH
X-PUBLISHED-TTL:P3D
REFRESH-INTERVAL:P3D
CALSCALE:GREGORIAN
BEGIN:VEVENT
DTSTART:20140502T150000Z
DTEND:20140502T180000Z
X-MICROSOFT-CDO-ALLDAYEVENT:FALSE
SUMMARY:Luncheon Fundraiser & Bake Sale for the White Cloud Community Library
DESCRIPTION:Join us at White Cloud Community Library on Friday\, May 2 at 11:00 am for our Luncheon Fundraiser and Bake Sale.  Lunch starts at 11:00 am and ends when we run out of food.  Lunch will be for a $5.00 donation and baked goods will be available at various prices.  All monies raised on this day will be donated to our Give Local fund at the Fremont Area Community Foundation Match Day Program on May 6th.  Fremont Area Community Foudation will match up to 50% of the amount of donations raised. \n\n\n\nSupport White Cloud Community Library by giving local at our fundraiser on Friday\, May 2.
X-ALT-DESC;FMTTYPE=text/html:<br />\nJoin us at White Cloud Community Library on Friday\, May 2 at 11:00 am for our Luncheon Fundraiser and Bake Sale.&nbsp\; Lunch starts at 11:00 am and ends when we run out of food.&nbsp\; Lunch will be for a $5.00 donation and baked goods will be available at various prices.&nbsp\; All monies raised on this day will be donated to our Give Local fund at the Fremont Area Community Foundation Match Day Program on May 6th.&nbsp\; Fremont Area Community Foudation will match up to 50% of the amount of donations raised.&nbsp\;<br />\n<br />\nSupport White Cloud Community Library by giving local at our fundraiser on Friday\, May 2.<br />\n&nbsp\;
LOCATION:White Cloud Community Library Meeting Room 1038 E Wilcox Ave White Cloud\, MI 49349
UID:e.1709.866
SEQUENCE:3
DTSTAMP:20260420T125823Z
URL:https://www.rivercountrychamber.com/events/details/luncheon-fundraiser-bake-sale-for-the-white-cloud-community-library-05-02-2014-866
END:VEVENT

END:VCALENDAR
