BEGIN:VCALENDAR
VERSION:2.0
PRODID:-//ChamberMaster//Event Calendar 2.0//EN
METHOD:PUBLISH
X-PUBLISHED-TTL:P3D
REFRESH-INTERVAL:P3D
CALSCALE:GREGORIAN
BEGIN:VEVENT
DTSTART:20220307T150000Z
DTEND:20220312T173000Z
X-MICROSOFT-CDO-ALLDAYEVENT:FALSE
SUMMARY:March Adult Drop-In Craft @ Newaygo Library
DESCRIPTION:The Adult Drop-In Craft for MARCH will be a DIY Zen Garden.\n\nAll supplies will be available upstairs in the Local History Room during Library hours.\n\nQUANTITIES ARE LIMITED.\n\nAdults and Teens ONLY\n\nLIMIT One Per Person\n\n* This is a Drop-In craft. Supplies are not available to make this at home.\n\n#CraftingatNewaygoLibrary #NewaygoLibrary #Newaygo\n\nWould you like a reminder for this event? Sign up for our events reminder program! "Remind" will send out a text and email about events going on at Newaygo Library. To sign up\, go to: remind.com/join/44kk72.
X-ALT-DESC;FMTTYPE=text/html:<p>The Adult Drop-In Craft for MARCH will be a <strong>DIY Zen Garden</strong>.</p>\n\n<p><strong>All supplies will be available upstairs in the Local History Room during Library hours.</strong></p>\n\n<p><strong>QUANTITIES ARE LIMITED.</strong></p>\n\n<p><strong>Adults and Teens ONLY</strong></p>\n\n<p><strong>LIMIT One Per Person</strong></p>\n\n<p><strong>* This is a Drop-In craft. Supplies are not available to make this at home.</strong></p>\n\n<p><strong><a href="https://www.google.com/url?q=http://facebook/hashtag/craftingatnewaygolibrary&amp\;sa=D&amp\;source=calendar&amp\;usd=2&amp\;usg=AOvVaw2o-ImGUsRsw6rCudSGet0Q" style="color: rgb(26\, 115\, 232)\;" target="_blank">#CraftingatNewaygoLibrary</a>&nbsp\;<a href="https://www.google.com/url?q=http://facebook/hashtag/NewaygoLibrary&amp\;sa=D&amp\;source=calendar&amp\;usd=2&amp\;usg=AOvVaw1EKiXikq_2BKscoyet6K0c" style="color: rgb(26\, 115\, 232)\;" target="_blank">#NewaygoLibrary</a>&nbsp\;<a href="https://www.google.com/url?q=http://facebook/hashtag/Newaygo&amp\;sa=D&amp\;source=calendar&amp\;usd=2&amp\;usg=AOvVaw3Gh9uThbVT7jxw6dECEviW" style="color: rgb(26\, 115\, 232)\;" target="_blank">#Newaygo</a></strong></p>\n\n<p>Would you like a reminder for this event? Sign up for our events reminder program! &quot\;Remind&quot\; will send out a text and email about events going on at Newaygo Library. To sign up\, go to:&nbsp\;<a href="https://www.google.com/url?q=http://remind.com/join/44kk72?fbclid%3DIwAR1yTl0h0PLqIDfGNf8xxgS5pF_N3yG6dYDWUR4-y3df5JWr5ruHip-9huE&amp\;sa=D&amp\;source=calendar&amp\;usd=2&amp\;usg=AOvVaw3oB_ueIG6-XPfJZjSeHhGK" style="color: rgb(26\, 115\, 232)\;" target="_blank">remind.com/join/44kk72</a>.</p>\n
LOCATION:
UID:e.1709.38816
SEQUENCE:3
DTSTAMP:20260424T091403Z
URL:https://www.rivercountrychamber.com/events/details/march-adult-drop-in-craft-newaygo-library-38816
END:VEVENT

END:VCALENDAR
