BEGIN:VCALENDAR
VERSION:2.0
PRODID:-//ChamberMaster//Event Calendar 2.0//EN
METHOD:PUBLISH
X-PUBLISHED-TTL:P3D
REFRESH-INTERVAL:P3D
CALSCALE:GREGORIAN
BEGIN:VEVENT
DTSTART:20200824T150000Z
DTEND:20200824T160000Z
X-MICROSOFT-CDO-ALLDAYEVENT:FALSE
SUMMARY:Marketing Your Business
DESCRIPTION:Fundamentals of Small Business Success webinar series brought to you by SBDC - Michigan.\n\n\n\nIntroduction to Marketing Your Business - WEBINAR\nOnline\nFacilitated by Michigan SBDC Lead Center\n\n\nTopic: Marketing and Sales\n\nThis is a fundamental introduction to marketing for small businesses. Does your marketing strategy target your greatest opportunities for increases sales and achieving a competitive advantage? There is much more to marketing than having a couple of social media accounts and an email newsletter. In this webinar\, we'll discuss market analysis and research\, competitive analysis and position\, as well as product price\, placement\, and promotion\, and finish up with strategy implementation. We have reserved 20 minutes for a live question and answer session\, in which one of our certified small business consultants will answer questions from the audience on a first come\, first served basis.\n\nSpeaker(s): Michigan SBDC Staff\n\n  We will be unable to provide technical assistance for accessing the webinar beginning 30 minutes prior to the start of the webinar.   Reasonable accommodations for persons with disabilities will be made if requested in advance.   Contact Ian Rogers at rogersia@gvsu.edu.  \n\nREGISTER ONLINE
X-ALT-DESC;FMTTYPE=text/html:<span style="margin: 0px\; padding: 0px\; border: 0px\; font-style: italic\; font-variant-numeric: inherit\; font-variant-east-asian: inherit\; font-stretch: inherit\; font-size: 16px\; line-height: inherit\; font-family: &quot\;Open Sans&quot\;\, sans-serif\; vertical-align: baseline\; color: rgb(7\, 34\, 82)\;">Fundamentals of Small Business Success&nbsp\;</span><span style="margin: 0px\; padding: 0px\; border: 0px\; font-variant-numeric: inherit\; font-variant-east-asian: inherit\; font-stretch: inherit\; font-size: 16px\; line-height: inherit\; font-family: &quot\;Open Sans&quot\;\, sans-serif\; vertical-align: baseline\; color: rgb(7\, 34\, 82)\;">webinar series brought to you by SBDC - Michigan.<br />\n<br />\nIntroduction to Marketing Your Business - WEBINAR</span>\n<div class="cdtopmargin" style="box-sizing: border-box\; padding: 1rem 0px\; color: rgb(119\, 119\, 119)\; font-family: &quot\;Open Sans&quot\;\, &quot\;Helvetica Neue&quot\;\, Helvetica\, Arial\, sans-serif\; font-size: 16px\; background-color: rgb(244\, 244\, 244)\;">Online\n<div class="cdloconlineprimetitle" style="box-sizing: border-box\; font-size: 0.8rem\;">Facilitated by&nbsp\;<a href="https://clients.sbdcmichigan.org/center.aspx?center=39001" style="box-sizing: border-box\; background: 0px 0px\; color: rgb(197\, 15\, 60)\; text-decoration-line: none\; transition: all 300ms ease 0s\;">Michigan SBDC Lead Center</a></div>\n</div>\n\n<div style="box-sizing: border-box\; color: rgb(119\, 119\, 119)\; font-family: &quot\;Open Sans&quot\;\, &quot\;Helvetica Neue&quot\;\, Helvetica\, Arial\, sans-serif\; font-size: 16px\; background-color: rgb(244\, 244\, 244)\;">Topic: Marketing and Sales</div>\n\n<div class="cdworkshopHTMLinfo" style="box-sizing: border-box\; padding-top: 1em\; padding-bottom: 1em\; color: rgb(119\, 119\, 119)\; font-family: &quot\;Open Sans&quot\;\, &quot\;Helvetica Neue&quot\;\, Helvetica\, Arial\, sans-serif\; font-size: 16px\; background-color: rgb(244\, 244\, 244)\;">This is a fundamental introduction to marketing for small businesses. Does your marketing strategy target your greatest opportunities for increases sales and achieving a competitive advantage? There is much more to marketing than having a couple of social media accounts and an email newsletter. In this webinar\, we&rsquo\;ll discuss market analysis and research\, competitive analysis and position\, as well as product price\, placement\, and promotion\, and finish up with strategy implementation. We have reserved 20 minutes for a live question and answer session\, in which one of our certified small business consultants will answer questions from the audience on a first come\, first served basis.</div>\n\n<p class="cdworkshoptextinfo" style="box-sizing: border-box\; margin: 0px 0px 11px\; font-size: 14px\; line-height: 24px\; white-space: pre-wrap\; color: rgb(119\, 119\, 119)\; font-family: &quot\;Open Sans&quot\;\, &quot\;Helvetica Neue&quot\;\, Helvetica\, Arial\, sans-serif\; background-color: rgb(244\, 244\, 244)\;">Speaker(s): Michigan SBDC Staff</p>\n\n<p class="cdworkshoptextinfo" style="box-sizing: border-box\; margin: 0px 0px 11px\; font-size: 14px\; line-height: 24px\; white-space: pre-wrap\; color: rgb(119\, 119\, 119)\; font-family: &quot\;Open Sans&quot\;\, &quot\;Helvetica Neue&quot\;\, Helvetica\, Arial\, sans-serif\; background-color: rgb(244\, 244\, 244)\;">&bull\; We will be unable to provide technical assistance for accessing the webinar beginning 30 minutes prior to the start of the webinar. &bull\; Reasonable accommodations for persons with disabilities will be made if requested in advance. &bull\; Contact Ian Rogers at rogersia@gvsu.edu. &bull\;</p>\n\n<div style="box-sizing: border-box\; color: rgb(119\, 119\, 119)\; font-family: &quot\;Open Sans&quot\;\, &quot\;Helvetica Neue&quot\;\, Helvetica\, Arial\, sans-serif\; font-size: 16px\; background-color: rgb(244\, 244\, 244)\;"><a class="cdeventreg" href="https://clients.sbdcmichigan.org/reg.aspx?mode=event&amp\;event=1400116" style="box-sizing: border-box\; background-image: initial\; background-position: 0px 0px\; background-size: initial\; background-repeat: initial\; background-attachment: initial\; background-origin: initial\; background-clip: initial\; color: rgb(197\, 15\, 60)\; text-decoration-line: none\; transition: all 300ms ease 0s\; font-weight: bold\; text-transform: uppercase\; display: inline-block\; padding: 0.8rem 2rem\; font-size: 1.2rem\; margin-bottom: 0.5em\; background-color: rgb(0\, 64\, 117) !important\;">REGISTER ONLINE</a></div>\n<br />\n&nbsp\;
LOCATION:ONLINE
UID:e.1709.37404
SEQUENCE:3
DTSTAMP:20260421T083402Z
URL:https://www.rivercountrychamber.com/events/details/marketing-your-business-37404
END:VEVENT

END:VCALENDAR
