BEGIN:VCALENDAR
VERSION:2.0
PRODID:-//ChamberMaster//Event Calendar 2.0//EN
METHOD:PUBLISH
X-PUBLISHED-TTL:P3D
REFRESH-INTERVAL:P3D
CALSCALE:GREGORIAN
BEGIN:VEVENT
DTSTART:20220315T160000Z
DTEND:20220315T170000Z
X-MICROSOFT-CDO-ALLDAYEVENT:FALSE
SUMMARY:Marketing Your Business from the Driver’s Seat
DESCRIPTION:REGISTER HERE\n\nMarketing Your Business from the Driver's Seat\n\nBy MI-SBDC Lead Center\n\nLearn five marketing rules you can use in business to put yourself in a position of power. Marketing is all about sharing your message\, and understanding the psychology of how you present the message is critical to making the impact you want. This presentation shows you how to set yourself up for success in business using five techniques that show your strength\, help you adapt to different personality types in the sales process\, and put you in the driver's seat.\n\n \n\nSpeaker:\n\nMelissa Forziat\, Principal of Melissa Forziat Events and Marketing\n\n \n\n  We will be unable to provide technical assistance for accessing the webinar beginning 30 minutes prior to the start of the webinar.\n\n  This webinar will take place using GoToWebinar. If you have not used GoToWebinar before\, and/or would like to check the compatibility of your computer/mobile device with GoToWebinar\, please visit https://support.goto.com/webinar/system-check-attendee.\n\n  Reasonable accommodations for persons with disabilities will be made if requested in advance.\n\n  Contact Ian Rogers at rogersia@gvsu.edu.
X-ALT-DESC;FMTTYPE=text/html:<div _ngcontent-ehe-c176="" class="event-name" helvetica="" style="background: rgb(238\, 238\, 238)\; border: 1px solid rgb(204\, 204\, 204)\; padding: 5px 10px\; text-align: center\;"><a href="https://events.blackthorn.io/en/5Y1bSaM7/g/3m508x45e5/marketing-your-business-from-the-drivers-seat-5a1t5YKziQU/overview">REGISTER HERE</a></div>\n\n<div _ngcontent-ehe-c176="" class="event-name" helvetica="" style="color: rgba(0\, 0\, 0\, 0.87)\; font-size: 1.5rem\; margin: 0px 0px 0.5rem\; text-overflow: ellipsis\; width: auto\; max-height: 7.1875rem\; overflow: hidden\; font-family: Roboto\, ">Marketing Your Business from the Driver&rsquo\;s Seat</div>\n\n<h2 _ngcontent-ehe-c176="" class="organizer-name ng-star-inserted" helvetica="" style="color: var(--surfaceTextSemiMutedColor)\; font-size: 1rem\; margin-top: 0px\; text-overflow: ellipsis\; font-family: Roboto\, ">By MI-SBDC Lead Center</h2>\n\n<p helvetica="" style="font-size: 0.75rem\; line-height: calc(1.5rem*var(--lineHeightFactor))\; word-break: break-word\; margin: -0.25rem 0px\; color: rgba(0\, 0\, 0\, 0.87)\; font-family: Roboto\, "><span style="font-size: 14px\;">Learn five marketing rules you can use in business to put yourself in a position of power.&nbsp\;Marketing is all about sharing your message\, and understanding the psychology of how you present the message is critical to making the impact you want.&nbsp\;This presentation shows you how to set yourself up for success in business using five techniques that show your strength\, help you adapt to different personality types in the sales process\, and put you in the driver&#39\;s seat.</span></p>\n\n<p helvetica="" style="font-size: 0.75rem\; line-height: calc(1.5rem*var(--lineHeightFactor))\; word-break: break-word\; margin: -0.25rem 0px\; color: rgba(0\, 0\, 0\, 0.87)\; font-family: Roboto\, ">&nbsp\;</p>\n\n<p helvetica="" style="font-size: 0.75rem\; line-height: calc(1.5rem*var(--lineHeightFactor))\; word-break: break-word\; margin: -0.25rem 0px\; color: rgba(0\, 0\, 0\, 0.87)\; font-family: Roboto\, "><span style="font-size: 14px\;">Speaker:</span></p>\n\n<p helvetica="" style="font-size: 0.75rem\; line-height: calc(1.5rem*var(--lineHeightFactor))\; word-break: break-word\; margin: -0.25rem 0px\; color: rgba(0\, 0\, 0\, 0.87)\; font-family: Roboto\, "><span style="font-size: 14px\;">Melissa Forziat\, Principal of Melissa Forziat Events and Marketing</span></p>\n\n<p helvetica="" style="font-size: 0.75rem\; line-height: calc(1.5rem*var(--lineHeightFactor))\; word-break: break-word\; margin: -0.25rem 0px\; color: rgba(0\, 0\, 0\, 0.87)\; font-family: Roboto\, ">&nbsp\;</p>\n\n<p helvetica="" style="font-size: 0.75rem\; line-height: calc(1.5rem*var(--lineHeightFactor))\; word-break: break-word\; margin: -0.25rem 0px\; color: rgba(0\, 0\, 0\, 0.87)\; font-family: Roboto\, "><span style="font-size: 14px\;">&bull\; We will be unable to provide technical assistance for accessing the webinar beginning 30 minutes prior to the start of the webinar.</span></p>\n\n<p helvetica="" style="font-size: 0.75rem\; line-height: calc(1.5rem*var(--lineHeightFactor))\; word-break: break-word\; margin: -0.25rem 0px\; color: rgba(0\, 0\, 0\, 0.87)\; font-family: Roboto\, "><span style="font-size: 14px\;">&bull\; This webinar will take place using GoToWebinar. If you have not used GoToWebinar before\, and/or would like to check the compatibility of your computer/mobile device with GoToWebinar\, please visit&nbsp\;</span><a href="https://support.goto.com/webinar/system-check-attendee" style="background-color: transparent\; text-decoration-line: none\; color: rgb(1\, 118\, 211)\; border-bottom: none\; font-size: 14px\;" target="_blank">https://support.goto.com/webinar/system-check-attendee</a><span style="font-size: 14px\;">.</span></p>\n\n<p helvetica="" style="font-size: 0.75rem\; line-height: calc(1.5rem*var(--lineHeightFactor))\; word-break: break-word\; margin: -0.25rem 0px\; color: rgba(0\, 0\, 0\, 0.87)\; font-family: Roboto\, "><span style="font-size: 14px\;">&bull\; Reasonable accommodations for persons with disabilities will be made if requested in advance.</span></p>\n\n<p helvetica="" style="font-size: 0.75rem\; line-height: calc(1.5rem*var(--lineHeightFactor))\; word-break: break-word\; margin: -0.25rem 0px\; color: rgba(0\, 0\, 0\, 0.87)\; font-family: Roboto\, "><span style="font-size: 14px\;">&bull\; Contact Ian Rogers at&nbsp\;<a href="mailto:rogersia@gvsu.edu" style="background-color: transparent\; text-decoration-line: none\; color: rgb(1\, 118\, 211)\; border-bottom: none\;" target="_external_l0mpmpyw_">rogersia@gvsu.edu</a>.</span></p>\n
LOCATION:Virtual
UID:e.1709.38820
SEQUENCE:3
DTSTAMP:20260424T075116Z
URL:https://www.rivercountrychamber.com/events/details/marketing-your-business-from-the-driver-s-seat-38820
END:VEVENT

END:VCALENDAR
